BEGIN:VCALENDAR
VERSION:2.0
PRODID:-//Ayuntamiento de Mieres - ECPv5.16.1.1//NONSGML v1.0//EN
CALSCALE:GREGORIAN
METHOD:PUBLISH
X-WR-CALNAME:Ayuntamiento de Mieres
X-ORIGINAL-URL:https://www.mieres.es
X-WR-CALDESC:Eventos para Ayuntamiento de Mieres
BEGIN:VTIMEZONE
TZID:Europe/Madrid
BEGIN:DAYLIGHT
TZOFFSETFROM:+0100
TZOFFSETTO:+0200
TZNAME:CEST
DTSTART:20250330T010000
END:DAYLIGHT
BEGIN:STANDARD
TZOFFSETFROM:+0200
TZOFFSETTO:+0100
TZNAME:CET
DTSTART:20251026T010000
END:STANDARD
END:VTIMEZONE
BEGIN:VEVENT
DTSTART;TZID=Europe/Madrid:20251019T190000
DTEND;TZID=Europe/Madrid:20251019T190000
DTSTAMP:20260420T025913
CREATED:20251006T095833Z
LAST-MODIFIED:20251008T080653Z
UID:75956-1760900400-1760900400@www.mieres.es
SUMMARY:"180836 Bernarda"\, por Lola Eiffel Company
DESCRIPTION:Teatro \n“180836 Bernarda”\npor Lola Eiffel Company\nDomingo\, 19 de octubre\, 19:00h \nAuditoriu Teodoro Cuesta \nEntrada libre hasta completar aforo  \n\n  \n\n18.08.36 “Bernarda”\nUna mujer de la guerra.\nUn fusilamiento.\nSoy la bisnieta de Bernarda Fernández López y Froilán Vecino Vasco.\nNieta e hija de exiliados.\nTengo 52 años y soy quién soy por venir de dónde vengo.\nVoz y movimiento como ‘GRITO A LA LIBERTAD’ \nNo es fácil oirlo ni agradable escucharlo\, pero me veo en la necesidad de contarlo.\nPor ellas\, mi bisabuela\, mi abuela y tantas mujeres a las que las arrebataron lo que más querían\, injustamente.\nCallaron mucho y sufrieron más.\nÉsta es su historia y aquí estoy yo para contarlo y bailarlo porque la memoria no debe permanecer en el olvido.\nEran mi familia y de ellas he bebido y mientras viva\, seguiré contándolo.\nLola Eiffel \n\n\n\nFicha artística  \nDirección artística\, coreografía e intérprete: Lola Eiffel\nAyudante de dirección y dirección de textos: María San Miguel\nDirector técnico y diseño de luces: Herminio González\nDocumentación histórica: Chusa Izquierdo\nGuión: Lola Eiffel\, María San Miguel y Chusa Izquierdo\nDiseño – imagen corporativa / visuales: PobrelaVaca Studio\nMontaje visual : David Raio\nCanciones antiguas – documentación: Fermina Vecino y Su Pérez\nVoz – canciones: Su Pérez y César Díez\nArt Mode: Manolo Sierra\nVestuario: Ainhoa Salcedo y Lola Eiffel\nPintura deco : Mr.Zé\, Marco Leonato (Teatro Calderón)\nFotógrafa espectáculo: Vir Pintado \n\n\n\n\n \n\n 
URL:https://www.mieres.es/evento/180836-bernarda-por-lola-eiffel-company/
LOCATION:Casa de Cultura Teodoro Cuesta\, Calle Manuel Llaneza\, 8\, Mieres\, Asturias\, 33600\, España
CATEGORIES:Teatro
ATTACH;FMTTYPE=image/jpeg:https://www.mieres.es/wp-content/uploads/2025/10/bernarda-teatro-mieres.jpeg
GEO:43.2502294;-5.7729571
X-APPLE-STRUCTURED-LOCATION;VALUE=URI;X-ADDRESS=Casa de Cultura Teodoro Cuesta Calle Manuel Llaneza 8 Mieres Asturias 33600 España;X-APPLE-RADIUS=500;X-TITLE=Calle Manuel Llaneza\, 8:geo:-5.7729571,43.2502294
END:VEVENT
END:VCALENDAR