BEGIN:VCALENDAR
VERSION:2.0
PRODID:-//Ayuntamiento de Mieres - ECPv5.16.1.1//NONSGML v1.0//EN
CALSCALE:GREGORIAN
METHOD:PUBLISH
X-WR-CALNAME:Ayuntamiento de Mieres
X-ORIGINAL-URL:https://www.mieres.es
X-WR-CALDESC:Eventos para Ayuntamiento de Mieres
BEGIN:VTIMEZONE
TZID:Europe/Madrid
BEGIN:DAYLIGHT
TZOFFSETFROM:+0100
TZOFFSETTO:+0200
TZNAME:CEST
DTSTART:20240331T010000
END:DAYLIGHT
BEGIN:STANDARD
TZOFFSETFROM:+0200
TZOFFSETTO:+0100
TZNAME:CET
DTSTART:20241027T010000
END:STANDARD
END:VTIMEZONE
BEGIN:VEVENT
DTSTART;TZID=Europe/Madrid:20240422T090000
DTEND;TZID=Europe/Madrid:20240422T150000
DTSTAMP:20260421T122106
CREATED:20240409T091954Z
LAST-MODIFIED:20240409T092759Z
UID:68453-1713776400-1713798000@www.mieres.es
SUMMARY:Actividades de conciliación. Día de la Tierra (festivo escolar)
DESCRIPTION:  \nLa Concejalía de Igualdad y Feminismo organiza\, coincidiendo con la celebración del Día de la Tierra\, el 22 de abril de 2024\, una serie de actividades para facilitar la conciliación de las familias en el patio de los Colegios Aniceto Sela y Liceo\, de 09:00 a 15:00 horas con 40 plazas de infantil y 60 plazas de primaria. \nEsta actividad se enmarca en el Plan Corresponsables\, financiado a través de la Secretaría de Estado de Igualdad y contra la Violencia de Género del Ministerio de Igualdad\, y con la colaboración del Instituto Asturiano de la Mujer del Principado de Asturias. \nSe trata de una actividad gratuita pero es necesaria la inscripción previa ya que el número de plazas es limitado y serán asignadas por orden de inscripción. Habrá juegos\, actividades y diversión asegurada\, y un pequeño desayuno a media mañana. \n\nLas inscripciones pueden realizarse a partir del día 10 de abril (9:00h) desde el siguiente enlace: \nhttps://bit.ly/DiadelatierraMieres \n  \n\n 
URL:https://www.mieres.es/evento/actividades-de-conciliacion-dia-de-la-tierra-festivo-escolar/
LOCATION:Patio colegio Liceo/Aniceto Sela\, Colegio Público Liceo Mierense\, Mieres\, Asturias\, 33600 
CATEGORIES:Juventud e Infancia
ATTACH;FMTTYPE=image/jpeg:https://www.mieres.es/wp-content/uploads/2024/04/Cartel-Día-de-la-Tierra_Mieres-conciliacion-scaled.jpg
ORGANIZER;CN="Concejal%C3%ADa%20de%20Infancia%20y%20Juventud":MAILTO:oij@ayto-mieres.es
GEO:43.249719;-5.7785282
X-APPLE-STRUCTURED-LOCATION;VALUE=URI;X-ADDRESS=Patio colegio Liceo/Aniceto Sela Colegio Público Liceo Mierense Mieres Asturias 33600;X-APPLE-RADIUS=500;X-TITLE=Colegio Público Liceo Mierense:geo:-5.7785282,43.249719
END:VEVENT
END:VCALENDAR