BEGIN:VCALENDAR
VERSION:2.0
PRODID:-//Ayuntamiento de Mieres - ECPv5.16.1.1//NONSGML v1.0//EN
CALSCALE:GREGORIAN
METHOD:PUBLISH
X-WR-CALNAME:Ayuntamiento de Mieres
X-ORIGINAL-URL:https://www.mieres.es
X-WR-CALDESC:Eventos para Ayuntamiento de Mieres
BEGIN:VTIMEZONE
TZID:Europe/Madrid
BEGIN:DAYLIGHT
TZOFFSETFROM:+0100
TZOFFSETTO:+0200
TZNAME:CEST
DTSTART:20250330T010000
END:DAYLIGHT
BEGIN:STANDARD
TZOFFSETFROM:+0200
TZOFFSETTO:+0100
TZNAME:CET
DTSTART:20251026T010000
END:STANDARD
END:VTIMEZONE
BEGIN:VEVENT
DTSTART;TZID=Europe/Madrid:20251018T120000
DTEND;TZID=Europe/Madrid:20251018T120000
DTSTAMP:20260420T012858
CREATED:20251003T081118Z
LAST-MODIFIED:20251003T081118Z
UID:75939-1760788800-1760788800@www.mieres.es
SUMMARY:Acto de entrega de los XVII Galardones Pozu Fortuna
DESCRIPTION:  \nENTREGA DE LOS GALARDONES POZU FORTUNA 2025 \n  \nActo de entrega de los Galardones Pozu Fortuna en su XVII edición a: \n\nCategoría masculina\nSeverino Arias Morillo\nCategoría femenina\nMari Luz Fernández Álvarez\nCategoría nacional\nEsther López Barceló\nMención honorífica\nManuel García Fonseca “El Polesu”\n\nOfrenda floral a las víctimas de la represión franquista. \nCon la participación de la Charanga “Ventolín”\, del grupo “Vulgar Lengua” y de “Etymos Danza”. \n  \nAutobús gratuito desde la Plaza del Ayuntamiento (salida a las 11:00h.\, con parada en el Pozu San José de Turón a las 11:15h.). \n\n  \nHAY QUIENES LUCHAN UN DÍA Y SON BUENOS\, OTRAS LUCHAN UN AÑO Y SON MEJORES\, QUIENES LUCHAN MUCHOS AÑOS SON MUY BUENOS\, PERO LAS PERSONAS QUE LUCHAN TODA LA VIDA\, ESAS SON LAS VERDADERAMENTE IMPRESCINDIBLES.
URL:https://www.mieres.es/evento/acto-de-entrega-de-los-xvii-galardones-pozu-fortuna/
LOCATION:Pozu Fortuna\, Pozu Fortuna\, San Andrés de Turón
CATEGORIES:Memoria Democrática
ATTACH;FMTTYPE=image/jpeg:https://www.mieres.es/wp-content/uploads/2025/10/Cartel-web-Pozu-Fortuna-2025.jpg
END:VEVENT
END:VCALENDAR