BEGIN:VCALENDAR
VERSION:2.0
PRODID:-//Ayuntamiento de Mieres - ECPv5.16.1.1//NONSGML v1.0//EN
CALSCALE:GREGORIAN
METHOD:PUBLISH
X-WR-CALNAME:Ayuntamiento de Mieres
X-ORIGINAL-URL:https://www.mieres.es
X-WR-CALDESC:Eventos para Ayuntamiento de Mieres
BEGIN:VTIMEZONE
TZID:Europe/Madrid
BEGIN:DAYLIGHT
TZOFFSETFROM:+0100
TZOFFSETTO:+0200
TZNAME:CEST
DTSTART:20250330T010000
END:DAYLIGHT
BEGIN:STANDARD
TZOFFSETFROM:+0200
TZOFFSETTO:+0100
TZNAME:CET
DTSTART:20251026T010000
END:STANDARD
END:VTIMEZONE
BEGIN:VEVENT
DTSTART;VALUE=DATE:20250510
DTEND;VALUE=DATE:20250511
DTSTAMP:20260420T230004
CREATED:20250509T092622Z
LAST-MODIFIED:20250515T120628Z
UID:74056-1746835200-1746921599@www.mieres.es
SUMMARY:Agenda deportiva fin de semana (10/11MAY2025)
DESCRIPTION:  \n  \n \n\n\n\n10/05/2025\n10:00h\nELISEO GUTIERREZ ESPINA\n3º ALEVIN\nCAUDAL DEPORTIVO B – AYER C.F B\n\n\n10/05/2025\n10:00h\nELISEO GUTIERREZ ESPINA\n2º ALEVIN\nCAUDAL DEPORTIVO A – C..D. ROMANON A\n\n\n10/05/2025\n11:30h\nELISEO GUTIERREZ ESPINA\n3º INFANTIL\nCAUDAL DEPORTIVO C – C.D. UJO A\n\n\n10/05/2025\n13:45h\nELISEO GUTIERREZ ESPINA\n2 º INFANTIL\nCAUDAL DEPORTIVO A – REAL OVIEDO SAD B\n\n\n11/05/2025\n12:00h\nELISEO GUTIERREZ ESPINA\nCADETE LIGA AUTOMINESA ARTIME\nCAUDAL DEPORTIVO  B – S.D. LENENSE PROINASTUR B\n\n\n11/05/2025\n17:00h\nHERMANOS ANTUÑA\nTERCERA FEDERACIÓN\nCAUDAL DEPORTIVO – U.C. DE CEARES\n\n\n\n  \n \n\n\n\n10/05/2025\n10:30h.\nPOLIDEPORTIVO SUR\n3º BENJAMIN\nRACING DE MIERES B – CAUDAL DEPORTIVO C\n\n\n10/05/2025\n10:30h.\nPOLIDEPORTIVO OÑON\n3º BENJAMIN\nCAUDAL DEPORTIVO B – RACING DE MIERES A\n\n\n10/05/2025\n10:30h.\nPOLIDEPORTIVO FIGAREDO\nPREBENJAMIN\nCP SANTIAGO APOSTOL – HNOS ARREGUI SIERO\n\n\n10/05/2025\n11:00h.\nPOLIDEPORTIVO UJO\nJJDD ALEVIN MIXTO\nMIERESALA AZUL  C.P. TEODORO CUESTA – AMPA ANICETO A \n\n\n10/05/2025\n11:30h.\nPOLIDEPORTIVO SUR\nJJDD BENJAMIN ALEVIN FEMENINO\nANICETO SELA FEMENINO – EL GAITERO RODILES F.S. B\n\n\n10/05/2025\n11:45h\nPOLIDEPORTIVO FIGAREDO\nALEVIN\nAMPA ANICETO B – MIERESALA\n\n\n10/05/2025\n12:00h\nPOLIDEPORTIVO OÑON\n1º PREBENJAMIN\nCAUDAL DEPORTIVO A – ESCUELA FUTBOL MAREO B\n\n\n10/05/2025\n12:00h\nPOLIDEPORTIVO UJO\nJJDD PREBENJAMIN\nMIERESALA AZUL C.P T.CUESTA – LAUDE PALACIO DE GRANDA\n\n\n10/05/2025\n12:45h\nPOLIDEPORTIVO SUR\nJJDD INFANTIL CADETE FEMENINO\nCOLEGIO LASTRA – I.E.S. JUAN DE VILLANUEVA SIERO\n\n\n10/05/2025\n13:15h\nPOLIDEPORTIVO FIGAREDO\nALEVIN\nAMPA ANICETO C – CP ANTONIO MACHADO\n\n\n10/05/2025\n13:30h\nPOLIDEPORTIVO OÑON\n3 º PREBENJAMIN\nCAUDAL DEPORTIVO B – EL ENTREGO C.F. B\n\n\n10/05/2025\n14:00h\nPOLIDEPORTIVO SUR\nJJDD CADETE MASCULINO\nCOLEGIO LASTRA – I.E.S. LUCES\n\n\n10/05/2025\n17:00h\nPOLIDEPORTIVO OÑON\n2º ASTURFUTSAL\nMIERESALA A – PLAZA NAJOSA F.S. A \n\n\n10/05/2025\n19:00h\nPOLIDEPORTIVO OÑON\nFEMENINO SENIOR\nMIERESALA A – NAVIA FUTSOL SALA PARQUE HISTÓRICO\n\n\n11/05/2025\n11:30h\nPOLIDEPORTIVO SUR\n2º ASTURFUTSAL\nRACING DE MIERES B – FUTSAL MIERES A \n\n\n\n \n  \n 
URL:https://www.mieres.es/evento/agenda-deportiva-fin-de-semana-10-11may2025/
LOCATION:Varias ubicaciones
CATEGORIES:Agenda Deportiva,Deportes
ATTACH;FMTTYPE=image/jpeg:https://www.mieres.es/wp-content/uploads/2025/03/agenda-deportiva-web.jpg
END:VEVENT
END:VCALENDAR