BEGIN:VCALENDAR
VERSION:2.0
PRODID:-//Ayuntamiento de Mieres - ECPv5.16.1.1//NONSGML v1.0//EN
CALSCALE:GREGORIAN
METHOD:PUBLISH
X-WR-CALNAME:Ayuntamiento de Mieres
X-ORIGINAL-URL:https://www.mieres.es
X-WR-CALDESC:Eventos para Ayuntamiento de Mieres
BEGIN:VTIMEZONE
TZID:Europe/Madrid
BEGIN:DAYLIGHT
TZOFFSETFROM:+0100
TZOFFSETTO:+0200
TZNAME:CEST
DTSTART:20250330T010000
END:DAYLIGHT
BEGIN:STANDARD
TZOFFSETFROM:+0200
TZOFFSETTO:+0100
TZNAME:CET
DTSTART:20251026T010000
END:STANDARD
END:VTIMEZONE
BEGIN:VEVENT
DTSTART;VALUE=DATE:20250517
DTEND;VALUE=DATE:20250518
DTSTAMP:20260420T230031
CREATED:20250515T113725Z
LAST-MODIFIED:20250515T113725Z
UID:74157-1747440000-1747526399@www.mieres.es
SUMMARY:Agenda deportiva fin de semana (17/18MAY2025)
DESCRIPTION:  \n \n \n  \n\n\n\n17/05/2025\n09:30h.\nPOLIDEPORTIVO RIOTURBIO\nALEVIN MASCULINO\nB.V. MIERES IMPRENTA CERVANTES – COL. SANTA TERESA\n\n\n17/05/2025\n11:00h\nPOLIDEPORTIVO RIOTURBIO\nINFANTIL FEMENINO\nB.V. MIERES NATURCLIMA  – ADBA-SAN FER\n\n\n17/05/2025\n12:30h\nPOLIDEPORTIVO RIOTURBIO\nINFANTIL MASCULINO PLAY OFF ASCENSO A 1º\nB.V. MIERES CLINICA ORDIALES – CIRCULO GIJON A\n\n\n18/05/2025\n12:00h\nPOLIDEPORTIVO RIOTURBIO\nCOPA JUNMIOR MASCULINO\nB.V. MIERES MIANSI MODA  – CB L´ARBEYAL\n\n\n\n \n\n\n\n15/05/2025\n18:30h\nBOLERA DE TURON\n52º TORNEO DE BOLOS\nLA MUDRERA LIERES – S.B. TURONESA\n\n\n\n  \n \n\n\n\n17/05/2025\n10:15h\nELISEO GUTIERREZ ESPINA\n3º INFANTIL\nCAUDAL DEPORTIVO B – C.D. TURON A\n\n\n17/05/2025\n12:30h\nELISEO GUTIERREZ ESPINA\n2º ALEVIN\nCAUDAL DEPORTIVO C – CANICAS ATHLETIC CLUB A\n\n\n17/05/2025\n16:00h\nELISEO GUTIERREZ ESPINA\n2º CADETE LIGA AUTOMINESA ARTIME\nCAUDAL DEPORTIVO A – COLEGIO DE LA INMACULADA A\n\n\n18/05/2025\n12:30h\nELISEO GUTIERREZ ESPINA\n1 ºjuvenil\nCAUDAL DEPORTIVO A – C.D. LOS CAMPOS A\n\n\n\n  \n  \n \n\n\n\n17/05/2025\n10:15h.\nPOLIDEPORTIVO UJO\nJJDD PREBENJAMIN\nMIERESALA AMARILLO C.P TEODORO CUESTA – AMPA CABAÑAQUINTA\n\n\n17/05/2025\n10:30h.\nPOLIDEPORTIVO OÑON\n3 º BENJAMIN\nCAUDAL DEPORTIVO C – C.N. RIAÑO C.F. B\n\n\n17/05/2025\n11:00h.\nPOLIDEPORTIVO SUR\n3º PREBENJAMIN\nRACING DE MIERES A – LADA LANGREO C.F. B\n\n\n17/05/2025\n11:30h.\nPOLIDEPORTIVO UJO\nJJDD BENJAMIN ALEVIN FEMENINO\nMIERESALA C.P TEODORO CUESTA – C.D. OVIFEM\n\n\n17/05/2025\n12:00h\nPOLIDEPORTIVO OÑON\n2º BENJAMIN\nCAUDAL DEPORTIVO A – C.D. ROMANON B\n\n\n17/05/2025\n12:30h\nPOLIDEPORTIVO SUR\nFASE FINAL ALEVIN JJDD\nAMPA ANICETO B – POLA SOMIEDO F.S.\n\n\n17/05/2025\n12:45h\nPOLIDEPORTIVO UJO\nJJDD CADETE MASCULINO\nMIERESALA IES SANCHEZ LASTRA – I.E.S LA ERIA MONTEALTO\n\n\n17/05/2025\n13:30h\nPOLIDEPORTIVO OÑON\n3 º PREBENJAMIN\nCAUDAL DEPORTIVO C – U.P. LANGREO B\n\n\n17/05/2025\n18:30h\nPOLIDEPORTIVO OÑON\n2 º ASTURFUTSAL\nFUTSAL MIERES A – LUGONES RANGERS B\n\n\n\n  \n\n \n  \n 
URL:https://www.mieres.es/evento/agenda-deportiva-fin-de-semana-17-18may2025/
LOCATION:Varias ubicaciones
CATEGORIES:Deportes
ATTACH;FMTTYPE=image/jpeg:https://www.mieres.es/wp-content/uploads/2025/03/agenda-deportiva-web.jpg
END:VEVENT
END:VCALENDAR