BEGIN:VCALENDAR
VERSION:2.0
PRODID:-//Ayuntamiento de Mieres - ECPv5.16.1.1//NONSGML v1.0//EN
CALSCALE:GREGORIAN
METHOD:PUBLISH
X-WR-CALNAME:Ayuntamiento de Mieres
X-ORIGINAL-URL:https://www.mieres.es
X-WR-CALDESC:Eventos para Ayuntamiento de Mieres
BEGIN:VTIMEZONE
TZID:Europe/Madrid
BEGIN:DAYLIGHT
TZOFFSETFROM:+0100
TZOFFSETTO:+0200
TZNAME:CEST
DTSTART:20250330T010000
END:DAYLIGHT
BEGIN:STANDARD
TZOFFSETFROM:+0200
TZOFFSETTO:+0100
TZNAME:CET
DTSTART:20251026T010000
END:STANDARD
END:VTIMEZONE
BEGIN:VEVENT
DTSTART;VALUE=DATE:20250524
DTEND;VALUE=DATE:20250525
DTSTAMP:20260420T230031
CREATED:20250522T115434Z
LAST-MODIFIED:20250523T080321Z
UID:74249-1748044800-1748131199@www.mieres.es
SUMMARY:Agenda deportiva fin de semana (24/25MAY2025)
DESCRIPTION:  \n \n \n\n\n\n24/05/2025\n18:00h.\nPOLIDEPORTIVO DE RIOTURBIO\n1 º FBPA MASCULINA\nBVM2012 – GRUPO CULTURA COVADONGA\n\n\n24/05/2025\n20:00h.\nPOLIDEPORTIVO DE RIOTURBIO\n1 º FBPA MASCULINA\nCB NAVIA – GIJÓN BASKET\n\n\n25/05/2025\n16:30h.\nPOLIDEPORTIVO DE RIOTURBIO\n1 º FBPA MASCULINA\nTERCER Y CUARTO PUESTO\n\n\n25/05/2025\n18:30h.\nPOLIDEPORTIVO DE RIOTURBIO\n1 º FBPA MASCULINA\nFINAL\n\n\n\n  \n \n\n\n\n24/05/2025\n11:30h\nELISEO GUTIERREZ ESPINA\n3 º INFANTIL\nCAUDAL DEPORTIVO C – EL ENTREGO C.F B\n\n\n24/05/2025\n16:00h\nELISEO GUTIERREZ ESPINA\n3 º ALEVIN\nCAUDAL DEPORTIVO B – LADA LANGREO C.F. A\n\n\n25/05/2025\n12:00h\nELISEO GUTIERREZ ESPINA\n2 º INFANTIL\nCAUDAL DEPORTIVO A – COVADONGA CASTAÑALES A\n\n\n25/05/2025\n18:00h\nHERMANOS ANTUÑA\nPLAY OFF DE ASCENSO A SEGUNDA RFEF\nCAUDAL DEPORTIVO C.D. – C.D. LEALTAD DE VILLAVICIOSA\n\n\n\n  \n  \n \n\n\n\n22/05/2025\n18:45h.\nPOLIDEPORTIVO SUR\n3º BENJAMIN\nRACING DE MIERES A – CENTRO ASTURIANO OVIEDO E\n\n\n24/05/2025\n10:30h.\nPOLIDEPORTIVO OÑON\n1º PREBENJAMIN\nCAUDAL DEPORTIVO A – REAL OVIEDO SAD A\n\n\n24/05/2025\n10:30h.\nPOLIDEPORTIVO SUR\nJJDD CADETE MASCULINO\nCOLEGIO LASTRA – I.E.S JUAN DE VILLANUEVA SIERO A\n\n\n24/05/2025\n11:15h.\nPOLIDEPORTIVO UJO\nJJDD INFANTIL CADETE FEMENINO\nMIERESALA I.E.S SANCHEZ LASTRA – C.D. OVIFEM A\n\n\n24/05/2025\n11:45h.\nPOLIDEPORTIVO SUR\n3º BENJAMIN\nRACING DE MIERES B – S.D. LENENSE PROINASTUR B\n\n\n24/05/2025\n12:00h.\nPOLIDEPORTIVO OÑON\n3º PREBENJAMIN\nCAUDAL DEPORTIVO B – A.C.D. ALCAVA B\n\n\n24/05/2025\n12:30h.\nPOLIDEPORTIVO UJO\nJJDD PREBENJAMIN\nMIERESALA AZUL C.P. TEODORO CUESTA – C.P. LICEO MIERENSE\n\n\n24/05/2025\n13:30h.\nPOLIDEPORTIVO OÑON\n3º BENJAMIN\nCAUDAL DEPORTIVO B – C.D. ROMANON F\n\n\n24/05/2025\n18:00h.\nPOLIDEPORTIVO OÑON\n2º ASTURFUTSAL\nMIERESALA A – C.D. CACOLAS A\n\n\n25/05/2025\n12:00h.\nPOLIDEPORTIVO SUR\n2º ASTURFUTSAL\nRACING DE MIERES B – C.D. CARNES JOSE ARBESU A\n\n\n\n  \n  \n\n \n  \n 
URL:https://www.mieres.es/evento/agenda-deportiva-fin-de-semana-24-25may2025/
LOCATION:Varias ubicaciones
CATEGORIES:Deportes
ATTACH;FMTTYPE=image/jpeg:https://www.mieres.es/wp-content/uploads/2025/03/agenda-deportiva-web.jpg
END:VEVENT
END:VCALENDAR