BEGIN:VCALENDAR
VERSION:2.0
PRODID:-//Ayuntamiento de Mieres - ECPv5.16.1.1//NONSGML v1.0//EN
CALSCALE:GREGORIAN
METHOD:PUBLISH
X-WR-CALNAME:Ayuntamiento de Mieres
X-ORIGINAL-URL:https://www.mieres.es
X-WR-CALDESC:Eventos para Ayuntamiento de Mieres
BEGIN:VTIMEZONE
TZID:Europe/Madrid
BEGIN:DAYLIGHT
TZOFFSETFROM:+0100
TZOFFSETTO:+0200
TZNAME:CEST
DTSTART:20260329T010000
END:DAYLIGHT
BEGIN:STANDARD
TZOFFSETFROM:+0200
TZOFFSETTO:+0100
TZNAME:CET
DTSTART:20261025T010000
END:STANDARD
END:VTIMEZONE
BEGIN:VEVENT
DTSTART;VALUE=DATE:20260425
DTEND;VALUE=DATE:20260426
DTSTAMP:20260420T170754
CREATED:20260420T103335Z
LAST-MODIFIED:20260420T103335Z
UID:78555-1777075200-1777161599@www.mieres.es
SUMMARY:Agenda deportiva fin de semana (25/26ABR2026)
DESCRIPTION:  \n\n \n\n\n\n25/04/2026\n18:00\nSEGUNDA FASE 3ª ALEVÍN POR EL ASCENSO\nCAUDAL DEPORTIVO B – A.C.D. ALCAVA D\nELISEO GUTIÉRREZ ESPINA\n\n\n25/04/2026\n18:00\n2ª ALEVÍN\nCAUDAL DEPORTIVO C – RIBADESELLA C.F. A\nELISEO GUTIÉRREZ ESPINA\n\n\n25/04/2026\n12:30\n3ª CADETE LIGA AUTOMINESA ARTIME\nCAUDAL DEPORTIVO B – LADA LANGREO C.F. B\nELISEO GUTIÉRREZ ESPINA\n\n\n25/04/2026\n15:45\nLIGA NACIONAL JUVENIL\nCAUDAL DEPORTIVO A – ASTUR C.F. A\nELISEO GUTIÉRREZ ESPINA\n\n\n\n  \n  \n \n  \n\n\n\n25/04/2026\n16:45\n3ª PREBENJAMÍN\nCAUDAL DEPORTIVO C – CLUB ALCAZAR B\nPOLIDEPORTIVO UJO\n\n\n25/04/2026\n13:30\n2ª PREBENJAMÍN\nCAUDAL DEPORTIVO B – U.P. LANGREO B\nPOLIDEPORTIVO UJO\n\n\n25/04/2026\n10:30\n3ª BENJAMÍN\nCAUDAL DEPORTIVO B – A.C.D. ALCAVA C\nPOLIDEPORTIVO UJO\n\n\n25/04/2026\n12:00\n2ª BENJAMÍN\nCAUDAL DEPORTIVO A – RIBADESELLA C.F.\nPOLIDEPORTIVO UJO\n\n\n\n\n \n  \n 
URL:https://www.mieres.es/evento/agenda-deportiva-fin-de-semana-25-26abr2026/
LOCATION:Varias ubicaciones
CATEGORIES:Agenda Deportiva,Deportes
ATTACH;FMTTYPE=image/jpeg:https://www.mieres.es/wp-content/uploads/2025/03/agenda-deportiva-web.jpg
END:VEVENT
END:VCALENDAR