BEGIN:VCALENDAR
VERSION:2.0
PRODID:-//Ayuntamiento de Mieres - ECPv5.16.1.1//NONSGML v1.0//EN
CALSCALE:GREGORIAN
METHOD:PUBLISH
X-WR-CALNAME:Ayuntamiento de Mieres
X-ORIGINAL-URL:https://www.mieres.es
X-WR-CALDESC:Eventos para Ayuntamiento de Mieres
BEGIN:VTIMEZONE
TZID:Europe/Madrid
BEGIN:DAYLIGHT
TZOFFSETFROM:+0100
TZOFFSETTO:+0200
TZNAME:CEST
DTSTART:20220327T010000
END:DAYLIGHT
BEGIN:STANDARD
TZOFFSETFROM:+0200
TZOFFSETTO:+0100
TZNAME:CET
DTSTART:20221030T010000
END:STANDARD
END:VTIMEZONE
BEGIN:VEVENT
DTSTART;TZID=Europe/Madrid:20220915T090000
DTEND;TZID=Europe/Madrid:20220915T090000
DTSTAMP:20260422T093400
CREATED:20220831T121458Z
LAST-MODIFIED:20220831T121458Z
UID:58697-1663232400-1663232400@www.mieres.es
SUMMARY:Biblioteatro 2022-23\, Biblioteca Pública de Mieres (Apertura del plazo de inscripciones)
DESCRIPTION:
URL:https://www.mieres.es/evento/biblioteatro-2022-23-biblioteca-publica-de-mieres-apertura-del-plazo-de-inscripciones/
LOCATION:Biblioteca Pública de Mieres\, Calle Manuel Llaneza\, 8\, Mieres\, Asturias\, 33600 \, España
CATEGORIES:Bibliotecas
ATTACH;FMTTYPE=image/jpeg:https://www.mieres.es/wp-content/uploads/2022/08/biblioteatro-inscripcion.jpg
GEO:43.2502294;-5.7729571
X-APPLE-STRUCTURED-LOCATION;VALUE=URI;X-ADDRESS=Biblioteca Pública de Mieres Calle Manuel Llaneza 8 Mieres Asturias 33600  España;X-APPLE-RADIUS=500;X-TITLE=Calle Manuel Llaneza\, 8:geo:-5.7729571,43.2502294
END:VEVENT
END:VCALENDAR