BEGIN:VCALENDAR
VERSION:2.0
PRODID:-//Ayuntamiento de Mieres - ECPv5.16.1.1//NONSGML v1.0//EN
CALSCALE:GREGORIAN
METHOD:PUBLISH
X-WR-CALNAME:Ayuntamiento de Mieres
X-ORIGINAL-URL:https://www.mieres.es
X-WR-CALDESC:Eventos para Ayuntamiento de Mieres
BEGIN:VTIMEZONE
TZID:Europe/Madrid
BEGIN:DAYLIGHT
TZOFFSETFROM:+0100
TZOFFSETTO:+0200
TZNAME:CEST
DTSTART:20250330T010000
END:DAYLIGHT
BEGIN:STANDARD
TZOFFSETFROM:+0200
TZOFFSETTO:+0100
TZNAME:CET
DTSTART:20251026T010000
END:STANDARD
END:VTIMEZONE
BEGIN:VEVENT
DTSTART;TZID=Europe/Madrid:20251025T200000
DTEND;TZID=Europe/Madrid:20251025T200000
DTSTAMP:20260422T124649
CREATED:20251006T103728Z
LAST-MODIFIED:20251006T103728Z
UID:75969-1761422400-1761422400@www.mieres.es
SUMMARY:¡Bienvenidos! La Radio Fórmula. Vive la experiencia de los 80's\, 90's y 00's
DESCRIPTION:Concierto: \n¡Bienvenidos! La Radio Fórmula\nVive la experiencia de los 80’s\, 90’s y 00’s\n  \nSábadu\, 25 de octubre de 2025\, 20:00h\nAuditoriu Teodoro Cuesta \nEntradas 15€\nDisponibles online en este enlace: https://www.dentralia.com/evento/8WLs91KiNjnTwuGrSD7X \n\n  \n¿Eres de los que cantas en la ducha? ¿Cada día vas a trabajar con tu música favorita? ¿Te hace sonreír pensar en tu artista favorito? Esto es “Bienvenidos” La Radio Fórmula \, un concierto que repasa todos los éxitos del pop rock español e internacional de todos los tiempos. \n  \n\n 
URL:https://www.mieres.es/evento/bienvenidos-la-radio-formula-vive-la-experiencia-de-los-80s-90s-y-00s/
LOCATION:Casa de Cultura Teodoro Cuesta\, Calle Manuel Llaneza\, 8\, Mieres\, Asturias\, 33600\, España
CATEGORIES:Música
ATTACH;FMTTYPE=image/jpeg:https://www.mieres.es/wp-content/uploads/2025/10/Cartel-radio-formula-mieres-concierto.jpg
GEO:43.2502294;-5.7729571
X-APPLE-STRUCTURED-LOCATION;VALUE=URI;X-ADDRESS=Casa de Cultura Teodoro Cuesta Calle Manuel Llaneza 8 Mieres Asturias 33600 España;X-APPLE-RADIUS=500;X-TITLE=Calle Manuel Llaneza\, 8:geo:-5.7729571,43.2502294
END:VEVENT
END:VCALENDAR