BEGIN:VCALENDAR
VERSION:2.0
PRODID:-//Ayuntamiento de Mieres - ECPv5.16.1.1//NONSGML v1.0//EN
CALSCALE:GREGORIAN
METHOD:PUBLISH
X-WR-CALNAME:Ayuntamiento de Mieres
X-ORIGINAL-URL:https://www.mieres.es
X-WR-CALDESC:Eventos para Ayuntamiento de Mieres
BEGIN:VTIMEZONE
TZID:Europe/Madrid
BEGIN:DAYLIGHT
TZOFFSETFROM:+0100
TZOFFSETTO:+0200
TZNAME:CEST
DTSTART:20250330T010000
END:DAYLIGHT
BEGIN:STANDARD
TZOFFSETFROM:+0200
TZOFFSETTO:+0100
TZNAME:CET
DTSTART:20251026T010000
END:STANDARD
END:VTIMEZONE
BEGIN:VEVENT
DTSTART;TZID=Europe/Madrid:20250201T170000
DTEND;TZID=Europe/Madrid:20250201T170000
DTSTAMP:20260423T171921
CREATED:20250210T110109Z
LAST-MODIFIED:20250210T122640Z
UID:72756-1738429200-1738429200@www.mieres.es
SUMMARY:Blippi y sus Amigos: El Musical
DESCRIPTION:  \nMusical \nBlippi y sus Amigos: El Musical\nSábado\, 1 de febrero de 2025\, 17:00h.\nAuditoriu Teodoro Cuesta \nEntrada única 13 euros (más gastos de gestión). Venta de entradas en este enlace. \n  \n\n  \nPrepárate para la magia con “Blippi y sus Amigos: El Musical”\, un espectáculo único que combina aprendizaje y diversión\nEmbárcate en una aventura extraordinaria con Blippi y sus Amigos\, el tributo musical inspirado en el personaje que ha conquistado millones de corazones en YouTube y más allá. Este espectáculo inolvidable transportará a los más pequeños al mundo mágico y educativo de Blippi\, donde la música\, los colores y la imaginación cobran vida de una forma espectacular. \nDesde el momento en que las luces se atenúan y comienza la música\, Blippi y sus Amigos te invita a explorar un universo lleno de diversión y descubrimientos. El espectáculo está diseñado especialmente para los niños\, con canciones pegadizas que no podrán dejar de cantar\, bailes vibrantes que les animarán a moverse\, y mensajes educativos que convertirán el aprendizaje en una experiencia fascinante. \nUn elenco que brilla con talento\nNuestro talentoso elenco de actores y bailarines da vida a los entrañables personajes de Blippi\, garantizando una experiencia llena de energía y emoción. Cada detalle del espectáculo está cuidadosamente diseñado para mantener a los niños emocionados y comprometidos de principio a fin.\nCon un repertorio de canciones originales\, Blippi y sus Amigos enseña a los niños conceptos básicos como colores\, formas\, números y mucho más\, todo mientras se divierten al máximo. \nUna experiencia para toda la familia\nAunque el espectáculo está diseñado para los más pequeños\, Blippi y sus Amigos es una experiencia familiar que promete entretener tanto a niños como a adultos. Con momentos llenos de risas\, sorpresas y emociones\, este tributo es perfecto para disfrutar juntos y fortalecer los lazos familiares. No te pierdas la oportunidad de vivir Blippi y sus Amigos: El Musical. Una celebración de la creatividad\, el aprendizaje y la diversión que te dejará con una sonrisa de oreja a oreja y el corazón lleno de alegría. \nDuración: 60 minutos\nRecomendado para niños y niñas de todas las edades.\nMenores de 2 años no pagan entrada\, pero no ocupan localidad.\nMenores de 14 años deben ir siempre acompañados de un adulto. \n  \n\n 
URL:https://www.mieres.es/evento/blippi-y-sus-amigos-el-musical/
LOCATION:Casa de Cultura Teodoro Cuesta\, Calle Manuel Llaneza\, 8\, Mieres\, Asturias\, 33600\, España
CATEGORIES:Juventud e Infancia,Música,Teatro
ATTACH;FMTTYPE=image/jpeg:https://www.mieres.es/wp-content/uploads/2025/02/Blippy-y-sus-amigos-Mieres-2025.jpeg
GEO:43.2502294;-5.7729571
X-APPLE-STRUCTURED-LOCATION;VALUE=URI;X-ADDRESS=Casa de Cultura Teodoro Cuesta Calle Manuel Llaneza 8 Mieres Asturias 33600 España;X-APPLE-RADIUS=500;X-TITLE=Calle Manuel Llaneza\, 8:geo:-5.7729571,43.2502294
END:VEVENT
END:VCALENDAR