BEGIN:VCALENDAR
VERSION:2.0
PRODID:-//Ayuntamiento de Mieres - ECPv5.16.1.1//NONSGML v1.0//EN
CALSCALE:GREGORIAN
METHOD:PUBLISH
X-WR-CALNAME:Ayuntamiento de Mieres
X-ORIGINAL-URL:https://www.mieres.es
X-WR-CALDESC:Eventos para Ayuntamiento de Mieres
BEGIN:VTIMEZONE
TZID:Europe/Madrid
BEGIN:DAYLIGHT
TZOFFSETFROM:+0100
TZOFFSETTO:+0200
TZNAME:CEST
DTSTART:20230326T010000
END:DAYLIGHT
BEGIN:STANDARD
TZOFFSETFROM:+0200
TZOFFSETTO:+0100
TZNAME:CET
DTSTART:20231029T010000
END:STANDARD
END:VTIMEZONE
BEGIN:VEVENT
DTSTART;TZID=Europe/Madrid:20230105T183000
DTEND;TZID=Europe/Madrid:20230105T183000
DTSTAMP:20260421T104245
CREATED:20190103T084107Z
LAST-MODIFIED:20221221T085734Z
UID:31296-1672943400-1672943400@www.mieres.es
SUMMARY:Cabalgata de Reyes 2023
DESCRIPTION:CABALGATA DE REYES 2023\nSalida desde la C/Llanes (al lado del campo de fútbol) a las 18:30 h.\, para iniciar un recorrido por el casco urbano de Mieres\, hasta llegar al Parque Jovellanos\, pasando por las siguientes calles: \n1) Salida de C/Llanes (al lado del campo de fútbol)\n2) C/Alejandro Casona\n3) C/Rosalía de Castro\n4) C/Ramón Pérez de Ayala\n5) C/Manuel Llaneza\n6) C/Teodoro Cuesta\n7) C/Carreño Miranda\n8) C/Numa Guilhou\n9) C/Parque Jovellanos\n10) Recepción de sus majestades al lado del árbol navideño apadrinado por la Asociación Santa Bárbara\, en la C/La Vega Nº16 \n  \n\n 
URL:https://www.mieres.es/evento/cabalgata-de-reyes-2019/
LOCATION:Casco urbano\, Mieres del Camín\, Asturias\, 33600\, España
CATEGORIES:Actividades,Festejos
ATTACH;FMTTYPE=image/jpeg:https://www.mieres.es/wp-content/uploads/2019/01/cartel-cabalgata-de-reyes-2023.jpg
GEO:43.2491037;-5.7747551
END:VEVENT
END:VCALENDAR