BEGIN:VCALENDAR
VERSION:2.0
PRODID:-//Ayuntamiento de Mieres - ECPv5.16.1.1//NONSGML v1.0//EN
CALSCALE:GREGORIAN
METHOD:PUBLISH
X-WR-CALNAME:Ayuntamiento de Mieres
X-ORIGINAL-URL:https://www.mieres.es
X-WR-CALDESC:Eventos para Ayuntamiento de Mieres
BEGIN:VTIMEZONE
TZID:Europe/Madrid
BEGIN:DAYLIGHT
TZOFFSETFROM:+0100
TZOFFSETTO:+0200
TZNAME:CEST
DTSTART:20250330T010000
END:DAYLIGHT
BEGIN:STANDARD
TZOFFSETFROM:+0200
TZOFFSETTO:+0100
TZNAME:CET
DTSTART:20251026T010000
END:STANDARD
END:VTIMEZONE
BEGIN:VEVENT
DTSTART;TZID=Europe/Madrid:20250514T193000
DTEND;TZID=Europe/Madrid:20250514T193000
DTSTAMP:20260421T122031
CREATED:20250512T115551Z
LAST-MODIFIED:20250512T115551Z
UID:74092-1747251000-1747251000@www.mieres.es
SUMMARY:Charla-coloquio: "Ultraderecha\, postverdad e identidad"\, con Enrique del Teso
DESCRIPTION: Charla-coloquio: \n“Ultraderecha\, postverdad e identidad”\ncon Enrique del Teso\, Profesor de la Universidad de Oviedo\n  \nMiércoles\, 14 de mayo de 2025\, 19:30h. \nSalón de actos de la Casa de Cultura Teodoro Cuesta \nEntrada libre hasta completar aforo \n\n  \nEnrique del Teso Martín es doctor en Filosofía y Letras y profesor titular de Lingüística en la Universidad de Oviedo. Es autor de los libros Gramática general\, comunicación y partes del discurso\, Contexto\, situación e indeterminación\, Compendio y ejercicios de semántica\, Fonética y fonología actual del español (con F. d’Introno y Rosemary Weston) y Semántica y pragmática del texto común (con Rafael Núñez) y publicó artículos en revistas especializadas sobre lingüística teórica\, semántica\, pragmática y comunicación. Impartió clases de postgrado en Massachusetts y en varias universidades de Latinoamérica. Participa regularmente en programas de radio y escribe semanalmente en la prensa. También ha publicado los ensayos Más que palabras. La izquierda\, los discursos y los relatos (Ediciones Trea\, 2019) y La propaganda de ultraderecha y cómo tratar con ella (Ediciones Trea\, 2022). \n  \n  \nEl auge tenebroso de la extrema derecha en todo el mundo\, y también en España\, encuentra su gasolina en bulos y trampas discursivas practicados con enorme habilidad. Maestros de la agitprop como en tiempos lo fuera. Joseph Goebbels\, los portavoces de este nuevo fascismo siguen un conjunto de tácticas que Enrique del Teso se propone enumerar y analizar en este libro\, que viene a ser la segunda parte de Más que palabras: la izquierda\, los discursos y los relatos\, otro título de la colección de Ensayos de Trea. Aspira a ser\, no solo un estudio\, sino un instrumento de combate; un manual de instrucciones de la contrainsurgencia progresista\, «muy dada a precisiones sin límite y a análisis recargados que distraen de lo esencial y que no ayudan a saber qué hacer»\, y que debería dejar de serlo. También una advertencia sobre el peligro cierto de que el mayor enemigo de la democracia sea el fascista que todos llevamos dentro: «las pretensiones ultras»\, explica el profesor de lingüística\, repugnan a la mayoría\, pero se acomodan a estados de ánimo que todos tenemos en algún momento»; no es raro que «algún aspecto de su sedicente hartazgo se parezca al nuestro en tal o cual aspecto». Pero «es preciso entender que todas las puertas del fascismo conducen al fascismo entero y nunca a otra cosa\, que el fascismo es fractal y está completo e idéntico en cada episodio y que no hay avance del fascismo\, por pequeño que sea\, que sea venial. Cada diputado que gane lo pagará una mujer maltratada\, un homosexual agredido\, un grupo racial señalado\, un servicio público degradado». \n  \n 
URL:https://www.mieres.es/evento/charla-coloquio-ultraderecha-postverdad-e-identidad-con-enrique-del-teso/
LOCATION:Casa de Cultura Teodoro Cuesta\, Calle Manuel Llaneza\, 8\, Mieres\, Asturias\, 33600\, España
CATEGORIES:Charlas-coloquio
ATTACH;FMTTYPE=image/jpeg:https://www.mieres.es/wp-content/uploads/2025/05/Cartel-enrique-teso-mieres-2025.jpg
GEO:43.2502294;-5.7729571
X-APPLE-STRUCTURED-LOCATION;VALUE=URI;X-ADDRESS=Casa de Cultura Teodoro Cuesta Calle Manuel Llaneza 8 Mieres Asturias 33600 España;X-APPLE-RADIUS=500;X-TITLE=Calle Manuel Llaneza\, 8:geo:-5.7729571,43.2502294
END:VEVENT
END:VCALENDAR