BEGIN:VCALENDAR
VERSION:2.0
PRODID:-//Ayuntamiento de Mieres - ECPv5.16.1.1//NONSGML v1.0//EN
CALSCALE:GREGORIAN
METHOD:PUBLISH
X-WR-CALNAME:Ayuntamiento de Mieres
X-ORIGINAL-URL:https://www.mieres.es
X-WR-CALDESC:Eventos para Ayuntamiento de Mieres
BEGIN:VTIMEZONE
TZID:Europe/Madrid
BEGIN:DAYLIGHT
TZOFFSETFROM:+0100
TZOFFSETTO:+0200
TZNAME:CEST
DTSTART:20250330T010000
END:DAYLIGHT
BEGIN:STANDARD
TZOFFSETFROM:+0200
TZOFFSETTO:+0100
TZNAME:CET
DTSTART:20251026T010000
END:STANDARD
END:VTIMEZONE
BEGIN:VEVENT
DTSTART;TZID=Europe/Madrid:20250116T190000
DTEND;TZID=Europe/Madrid:20250116T190000
DTSTAMP:20260421T122032
CREATED:20250113T083608Z
LAST-MODIFIED:20250113T083608Z
UID:72433-1737054000-1737054000@www.mieres.es
SUMMARY:Charla-coloquio: “Vivienda y jóvenes. Acceso imposible”
DESCRIPTION:Charla-coloquio: \n“Vivienda y jóvenes. Acceso imposible” \nCon la participación de: \n\nDaniel Sánchez\, Director general de Vivienda\nAlejandro Braña\, miembro del Consejo Regional de Juventud\n\nOrganizado por Asociación Amigos de Mieres \n  \nJueves\, 16 de enero de 2025. 19:00 horas \nSalón de actos de la Casa de Cultura Teodoro Cuesta\nEntrada gratuita hasta completar aforo. \n\n 
URL:https://www.mieres.es/evento/charla-coloquio-vivienda-y-jovenes-acceso-imposible/
LOCATION:Casa de Cultura Teodoro Cuesta\, Calle Manuel Llaneza\, 8\, Mieres\, Asturias\, 33600\, España
CATEGORIES:Charlas-coloquio,Debate
ATTACH;FMTTYPE=image/jpeg:https://www.mieres.es/wp-content/uploads/2025/01/cartel-Vivienda-y-jovenes.jpg
GEO:43.2502294;-5.7729571
X-APPLE-STRUCTURED-LOCATION;VALUE=URI;X-ADDRESS=Casa de Cultura Teodoro Cuesta Calle Manuel Llaneza 8 Mieres Asturias 33600 España;X-APPLE-RADIUS=500;X-TITLE=Calle Manuel Llaneza\, 8:geo:-5.7729571,43.2502294
END:VEVENT
END:VCALENDAR