BEGIN:VCALENDAR
VERSION:2.0
PRODID:-//Ayuntamiento de Mieres - ECPv5.16.1.1//NONSGML v1.0//EN
CALSCALE:GREGORIAN
METHOD:PUBLISH
X-WR-CALNAME:Ayuntamiento de Mieres
X-ORIGINAL-URL:https://www.mieres.es
X-WR-CALDESC:Eventos para Ayuntamiento de Mieres
BEGIN:VTIMEZONE
TZID:Europe/Madrid
BEGIN:DAYLIGHT
TZOFFSETFROM:+0100
TZOFFSETTO:+0200
TZNAME:CEST
DTSTART:20230326T010000
END:DAYLIGHT
BEGIN:STANDARD
TZOFFSETFROM:+0200
TZOFFSETTO:+0100
TZNAME:CET
DTSTART:20231029T010000
END:STANDARD
END:VTIMEZONE
BEGIN:VEVENT
DTSTART;TZID=Europe/Madrid:20230124T190000
DTEND;TZID=Europe/Madrid:20230124T190000
DTSTAMP:20260423T132336
CREATED:20230123T094300Z
LAST-MODIFIED:20230123T094635Z
UID:60972-1674586800-1674586800@www.mieres.es
SUMMARY:Charla informativa sobre derechos en el Consumo: "Con la luz\, las cosas claras"
DESCRIPTION:Charla informativa \n“Con la luz\, las cosas claras”\nOficina Unión de Consumidores Mieres \nInterviene:\n– Dacio Alonso\, Presidente\, Unión de Consumidores. \nPresentado por:\n– Itziar Vicente Llaneza\, Concejala de Consumo\, Ayto. Mieres \n  \nHogar del Pensionista de Figareo\nEntrada libre hasta completar aforo \n\n 
URL:https://www.mieres.es/evento/charla-informativa-sobre-derechos-en-el-consumo-con-la-luz-las-cosas-claras-2/
LOCATION:Hogar del Pensionista de Figareo\, C/ Las Vegas\, Figareo\, Mieres\, 33683\, España
CATEGORIES:Consumo
ATTACH;FMTTYPE=image/jpeg:https://www.mieres.es/wp-content/uploads/2023/01/Cartel-charla-consumo-Luz-Enero-2023.jpeg
END:VEVENT
END:VCALENDAR