BEGIN:VCALENDAR
VERSION:2.0
PRODID:-//Ayuntamiento de Mieres - ECPv5.16.1.1//NONSGML v1.0//EN
CALSCALE:GREGORIAN
METHOD:PUBLISH
X-WR-CALNAME:Ayuntamiento de Mieres
X-ORIGINAL-URL:https://www.mieres.es
X-WR-CALDESC:Eventos para Ayuntamiento de Mieres
BEGIN:VTIMEZONE
TZID:Europe/Madrid
BEGIN:DAYLIGHT
TZOFFSETFROM:+0100
TZOFFSETTO:+0200
TZNAME:CEST
DTSTART:20250330T010000
END:DAYLIGHT
BEGIN:STANDARD
TZOFFSETFROM:+0200
TZOFFSETTO:+0100
TZNAME:CET
DTSTART:20251026T010000
END:STANDARD
END:VTIMEZONE
BEGIN:VEVENT
DTSTART;TZID=Europe/Madrid:20251009T190000
DTEND;TZID=Europe/Madrid:20251009T190000
DTSTAMP:20260419T185239
CREATED:20250930T110656Z
LAST-MODIFIED:20250930T110656Z
UID:75872-1760036400-1760036400@www.mieres.es
SUMMARY:Charlas-coloquio AECC Mieres: "Cáncer de mama familiar y hereditario" y "Cáncer de mama en el varón"
DESCRIPTION:AECC Mieres \nCharlas-coloquio:\n \nCáncer de mama familiar y hereditario\nDra. Sara Fernández . Oncología Medica. HUCA.\nCáncer de mama en el varón\nDra. Concepción Ildefonso. Jefa Servicio Cirugía Hospital Vital Álvarez Buylla.\n  \nJueves\, 9 de octubre de 2025\, 19:00h.\nSalón de actos de la casa de Cultura Teodoro Cuesta \n\n 
URL:https://www.mieres.es/evento/charlas-coloquio-aecc-mieres-cancer-de-mama-familiar-y-hereditario-y-cancer-de-mama-en-el-varon-2/
LOCATION:Casa de Cultura Teodoro Cuesta\, Calle Manuel Llaneza\, 8\, Mieres\, Asturias\, 33600\, España
CATEGORIES:Charlas-coloquio,Salud
ATTACH;FMTTYPE=image/jpeg:https://www.mieres.es/wp-content/uploads/2025/09/CARTEL-charla-cancer-mamam-octubre-2025.jpg
GEO:43.2502294;-5.7729571
X-APPLE-STRUCTURED-LOCATION;VALUE=URI;X-ADDRESS=Casa de Cultura Teodoro Cuesta Calle Manuel Llaneza 8 Mieres Asturias 33600 España;X-APPLE-RADIUS=500;X-TITLE=Calle Manuel Llaneza\, 8:geo:-5.7729571,43.2502294
END:VEVENT
END:VCALENDAR