BEGIN:VCALENDAR
VERSION:2.0
PRODID:-//Ayuntamiento de Mieres - ECPv5.16.1.1//NONSGML v1.0//EN
CALSCALE:GREGORIAN
METHOD:PUBLISH
X-WR-CALNAME:Ayuntamiento de Mieres
X-ORIGINAL-URL:https://www.mieres.es
X-WR-CALDESC:Eventos para Ayuntamiento de Mieres
BEGIN:VTIMEZONE
TZID:Europe/Madrid
BEGIN:DAYLIGHT
TZOFFSETFROM:+0100
TZOFFSETTO:+0200
TZNAME:CEST
DTSTART:20240331T010000
END:DAYLIGHT
BEGIN:STANDARD
TZOFFSETFROM:+0200
TZOFFSETTO:+0100
TZNAME:CET
DTSTART:20241027T010000
END:STANDARD
END:VTIMEZONE
BEGIN:VEVENT
DTSTART;TZID=Europe/Madrid:20240207T183000
DTEND;TZID=Europe/Madrid:20240207T183000
DTSTAMP:20260422T093400
CREATED:20240112T115752Z
LAST-MODIFIED:20240116T110402Z
UID:66740-1707330600-1707330600@www.mieres.es
SUMMARY:Ciclo Nutrición y Salud: "Pero\, si yo como sano ¿por qué engordo?"\, con Iraima Fernández
DESCRIPTION:Charla-coloquio\nCiclo Nutrición y Salud\n“Pero\, si yo como sano ¿por qué engordo?”\ncon Iraima Fernández\nATENCIÓN\nJunto con la charla se ofrece un Taller infantil gratuito de conciliación\, también sobre nutrición\, para poder dejar a los niños/as durante la ponencia\, de 18:30 a 20:00h. (a partir de 5 años). \n  \nMiércoles\, 7 de febrero\, 18:30h\nSalón de actos de la Casa de Cultura Teodoro Cuesta \nEntrada libre hasta completar aforo \n\nTaller destinado a entender que es la grasa corporal\, cómo conseguir el peso ideal y que factores juegan en nuestra contra o a nuestro favor. \n\nControl de los ciclos hambre – saciedad.\nCuál es nuestro peso ideal y como mantenernos en equilibrio.\nInfluencia del estrés en nuestra salud y aparato digestivo.\n¿Cuerpo perfecto o cuerpo funcional?\n\n  \nNuevo ciclo de charlas-coloquio organizadas por la concejalía de Igualdad y Feminismo\, impartidas por Iraima Fernández\, técnica en Dietética y Nutrición\, Coaching Nutricional\, Fitness Manager y entrenadora personal. \nComponen este ciclo las ponencias: \n\n17/01– Alimentación inflamatoria\n24/01– ¿Seguro que comes por ansiedad?\n31/01– La última de la fila\n07/02 – Pero si yo como sano\, ¿por qué engordo?\n\n  \n“El objetivo de mis ponencias es que las personas asistentes salgan con un amplio conocimiento para cuidar y mantener los pilares de nuestra salud física y mental. \nNo será algo superficial\, no serán cuatro diapositivas que olvidaremos al día siguiente. Será una manera de entender la importancia de cuidar su salud y saber cómo hacerlo.”\nIraima Fernández \n  \n\n  \n 
URL:https://www.mieres.es/evento/ciclo-nutricion-y-salud-pero-si-yo-como-sano-por-que-engordo-con-iraima-fernandez/
LOCATION:Casa de Cultura Teodoro Cuesta\, Calle Manuel Llaneza\, 8\, Mieres\, Asturias\, 33600\, España
CATEGORIES:Charlas-coloquio,Igualdad
ATTACH;FMTTYPE=image/jpeg:https://www.mieres.es/wp-content/uploads/2024/01/charla-POR-QUE-ENGORDO-7febrero.jpg
GEO:43.2502294;-5.7729571
X-APPLE-STRUCTURED-LOCATION;VALUE=URI;X-ADDRESS=Casa de Cultura Teodoro Cuesta Calle Manuel Llaneza 8 Mieres Asturias 33600 España;X-APPLE-RADIUS=500;X-TITLE=Calle Manuel Llaneza\, 8:geo:-5.7729571,43.2502294
END:VEVENT
END:VCALENDAR