BEGIN:VCALENDAR
VERSION:2.0
PRODID:-//Ayuntamiento de Mieres - ECPv5.16.1.1//NONSGML v1.0//EN
CALSCALE:GREGORIAN
METHOD:PUBLISH
X-WR-CALNAME:Ayuntamiento de Mieres
X-ORIGINAL-URL:https://www.mieres.es
X-WR-CALDESC:Eventos para Ayuntamiento de Mieres
BEGIN:VTIMEZONE
TZID:Europe/Madrid
BEGIN:DAYLIGHT
TZOFFSETFROM:+0100
TZOFFSETTO:+0200
TZNAME:CEST
DTSTART:20220327T010000
END:DAYLIGHT
BEGIN:STANDARD
TZOFFSETFROM:+0200
TZOFFSETTO:+0100
TZNAME:CET
DTSTART:20221030T010000
END:STANDARD
END:VTIMEZONE
BEGIN:VEVENT
DTSTART;TZID=Europe/Madrid:20220817T214500
DTEND;TZID=Europe/Madrid:20220817T214500
DTSTAMP:20260423T202227
CREATED:20220809T073241Z
LAST-MODIFIED:20220809T073241Z
UID:58552-1660772700-1660772700@www.mieres.es
SUMMARY:Cine pel Camín: "Pokémon: Detective Pikachu"
DESCRIPTION:Cine pel Camín 2022\n\nTítulo original: Pokémon Detective Pikachu \nAño: 2019 \nDuración: 104 min. \nPaís: EEUU \nDirector: Rob Letterman \nGuión: Dan Hernandez\, Benji Samit\, Rob Letterman\, Derek Connolly \nMúsica: Henry Jackman. Canción: Rita Ora \nFotografía: John Mathieson \n\n  \nReparto \nJustice Smith\, Ryan Reynolds\, Kathryn Newton\, Ken Watanabe\, Bill Nighy\, Chris Geere\, Rita Ora\, Suki Waterhouse\, Omar Chaparro \n\nSinopsis\n\nCuando el gran detective privado Harry Goodman desaparece misteriosamente; Tim\, su hijo de 21 años\, debe averiguar qué sucedió. En la investigación lo ayuda el antiguo compañero Pokémon de Harry\, el Detective Pikachu: un super detective adorable y ocurrente que se asombra incluso a sí mismo. Tim y Pikachu se dan cuenta que increíblemente pueden comunicarse\, y unen fuerzas en una aventura para develar el misterio enmarañado. Mientras buscan pistas en las calles resplandecientes de Ryme City\, una vasta metrópolis moderna donde los humanos y los Pokémon comparten un mundo real hiperrealista\, encuentran distintos personajes Pokémon y descubren un complot impactante que podría destruir la convivencia pacífica y amenazar a todo el universo Pokémon.  (FILMAFFINITY) \n\n\n 
URL:https://www.mieres.es/evento/cine-pel-camin-pokemon-detective-pikachu/
LOCATION:Parque Xovellanos\, Parque Xovellanos\, Mieres\, Asturias\, 33600 
CATEGORIES:Cine
ATTACH;FMTTYPE=image/jpeg:https://www.mieres.es/wp-content/uploads/2021/07/cine-pel-camin.jpeg
GEO:43.2517322;-5.7764018
X-APPLE-STRUCTURED-LOCATION;VALUE=URI;X-ADDRESS=Parque Xovellanos Parque Xovellanos Mieres Asturias 33600;X-APPLE-RADIUS=500;X-TITLE=Parque Xovellanos:geo:-5.7764018,43.2517322
END:VEVENT
END:VCALENDAR