BEGIN:VCALENDAR
VERSION:2.0
PRODID:-//Ayuntamiento de Mieres - ECPv5.16.1.1//NONSGML v1.0//EN
CALSCALE:GREGORIAN
METHOD:PUBLISH
X-WR-CALNAME:Ayuntamiento de Mieres
X-ORIGINAL-URL:https://www.mieres.es
X-WR-CALDESC:Eventos para Ayuntamiento de Mieres
BEGIN:VTIMEZONE
TZID:Europe/Madrid
BEGIN:DAYLIGHT
TZOFFSETFROM:+0100
TZOFFSETTO:+0200
TZNAME:CEST
DTSTART:20240331T010000
END:DAYLIGHT
BEGIN:STANDARD
TZOFFSETFROM:+0200
TZOFFSETTO:+0100
TZNAME:CET
DTSTART:20241027T010000
END:STANDARD
END:VTIMEZONE
BEGIN:VEVENT
DTSTART;TZID=Europe/Madrid:20240809T220000
DTEND;TZID=Europe/Madrid:20240809T220000
DTSTAMP:20260421T132643
CREATED:20240627T124104Z
LAST-MODIFIED:20240627T124104Z
UID:69767-1723240800-1723240800@www.mieres.es
SUMMARY:Cine pel Camín: "Rumba terapia"
DESCRIPTION:Cine pel Camín 2024\nLa Rebollá\, Pista Polideportiva\n22:00h \nAcceso libre \n\n  \nRUMBA TERAPIA\nFrancia\, 2022\nTítulo original: Rumba la vie\nDuración: 102 minutos \nDirección: Franck Dubosc\nGuion: Franck Dubosc\nFotografía: Ludovic Colbeau-Justin\nMúsica: Sylvain Goldberg\, Matteo Locasciulli \n  \nReparto \nFranck Dubosc\, Louna Espinosa\, Jean-Pierre Darroussin\, Marie-Philomène Nga\, Catherine Jacob\, Karina Marimon\, Michel Houellebecq\, Marie Vincent\,… \n  \nSinopsis \nTony es un cincuentón retraído y solitario que vive solo después de haber abandonado a su esposa e hija veinte años antes. Conmocionado por un infarto\, encuentra el coraje para enfrentarse a su pasado y se matricula de incógnito en la clase de baile de su hija Maria\, a la que nunca ha conocido\, con el objetivo de conquistarla y dar sentido a su vida. \n 
URL:https://www.mieres.es/evento/cine-pel-camin-rumba-terapia-3/
LOCATION:La Rebollá
CATEGORIES:Cine
ATTACH;FMTTYPE=image/jpeg:https://www.mieres.es/wp-content/uploads/2024/06/A3_RUMBATERAPIA_LAREBOLLADA_9AGOSTO-1200.jpg
END:VEVENT
END:VCALENDAR