BEGIN:VCALENDAR
VERSION:2.0
PRODID:-//Ayuntamiento de Mieres - ECPv5.16.1.1//NONSGML v1.0//EN
CALSCALE:GREGORIAN
METHOD:PUBLISH
X-WR-CALNAME:Ayuntamiento de Mieres
X-ORIGINAL-URL:https://www.mieres.es
X-WR-CALDESC:Eventos para Ayuntamiento de Mieres
BEGIN:VTIMEZONE
TZID:Europe/Madrid
BEGIN:DAYLIGHT
TZOFFSETFROM:+0100
TZOFFSETTO:+0200
TZNAME:CEST
DTSTART:20210328T010000
END:DAYLIGHT
BEGIN:STANDARD
TZOFFSETFROM:+0200
TZOFFSETTO:+0100
TZNAME:CET
DTSTART:20211031T010000
END:STANDARD
END:VTIMEZONE
BEGIN:VEVENT
DTSTART;VALUE=DATE:20211213
DTEND;VALUE=DATE:20211214
DTSTAMP:20260423T203402
CREATED:20211209T092547Z
LAST-MODIFIED:20211209T095527Z
UID:50908-1639353600-1639439999@www.mieres.es
SUMMARY:Compartiendo horas y juegos. Vacaciones activas Navidad 2021 (Apertura plazo de inscripciones)
DESCRIPTION:  \nNueva edición de los campamentos urbanos para vacaciones activas\, organizados por la Concejalía de Infancia y Juventud de nuestro Ayuntamiento para estas próximas fiestas navideñas\, en esta ocasión bajo el título “Compartiendo horas y juegos“. \nDurante los días 27\, 28\, 29 y 30 de diciembre y 3 y 4 de enero\, se desarrollarán en el Colegio Liceo Mierense-Aniceto Sela\, de 10 a 14 horas\, donde realizarán todo tipo de juegos\, talleres y actividades de ocio y educativas. Con esta iniciativa se pretende que los y las participantes disfruten de este tiempo de ocio en horario de mañana al mismo tiempo que se facilita la organización y la conciliación personal y laboral de las familias durante estas vacaciones escolares. \n  \nEl campamento urbano Movámonos Xunt@s Navidad’20 es una actividad gratuita pero es necesaria la inscripción previa ya que el número de plazas es limitado. Las inscripciones se pueden realizar a partir del 13 de diciembre\, en estos enlaces: \n\nPara niños y niñas de 3 a 5 años   https://www.inscribirme.com/infantilgrupoacompartirhorasyjuegos\nPara niños y niñas de 6 a 12 años  https://www.inscribirme.com/primariagrupobcompartirhorasyjuegos\n\n  \nDurante estos campamentos urbanos/vacaciones activas\, las y los participantes disfrutan y aprenden con actividades lúdicas y formativas acordes a su desarrollo intelectual y motriz que permiten\, al mismo tiempo\, profundizar en valores y actitudes de respeto\, cooperación\, igualdad y tolerancia a través de juegos y talleres compartidos. \n  \n\n 
URL:https://www.mieres.es/evento/compartiendo-horas-y-juegos-vacaciones-activas-navidad-2021-apertura-plazo-de-inscripciones/
LOCATION:Patio colegio Liceo/Aniceto Sela\, Colegio Público Liceo Mierense\, Mieres\, Asturias\, 33600 
CATEGORIES:Juventud e Infancia
ATTACH;FMTTYPE=image/jpeg:https://www.mieres.es/wp-content/uploads/2021/12/vacaciones-activas-2021-compartiendo-horas-y-juegos.jpeg
ORGANIZER;CN="Concejal%C3%ADa%20de%20Infancia%20y%20Juventud":MAILTO:oij@ayto-mieres.es
GEO:43.249719;-5.7785282
X-APPLE-STRUCTURED-LOCATION;VALUE=URI;X-ADDRESS=Patio colegio Liceo/Aniceto Sela Colegio Público Liceo Mierense Mieres Asturias 33600;X-APPLE-RADIUS=500;X-TITLE=Colegio Público Liceo Mierense:geo:-5.7785282,43.249719
END:VEVENT
END:VCALENDAR