BEGIN:VCALENDAR
VERSION:2.0
PRODID:-//Ayuntamiento de Mieres - ECPv5.16.1.1//NONSGML v1.0//EN
CALSCALE:GREGORIAN
METHOD:PUBLISH
X-WR-CALNAME:Ayuntamiento de Mieres
X-ORIGINAL-URL:https://www.mieres.es
X-WR-CALDESC:Eventos para Ayuntamiento de Mieres
BEGIN:VTIMEZONE
TZID:Europe/Madrid
BEGIN:DAYLIGHT
TZOFFSETFROM:+0100
TZOFFSETTO:+0200
TZNAME:CEST
DTSTART:20250330T010000
END:DAYLIGHT
BEGIN:STANDARD
TZOFFSETFROM:+0200
TZOFFSETTO:+0100
TZNAME:CET
DTSTART:20251026T010000
END:STANDARD
END:VTIMEZONE
BEGIN:VEVENT
DTSTART;TZID=Europe/Madrid:20251212T200000
DTEND;TZID=Europe/Madrid:20251212T200000
DTSTAMP:20260421T010902
CREATED:20251127T104015Z
LAST-MODIFIED:20251127T104015Z
UID:76672-1765569600-1765569600@www.mieres.es
SUMMARY:Concierto "Black. Grandes éxitos de la música negra"\, por el grupo Black
DESCRIPTION:Concierto \nBlack. Grandes éxitos de la música negra\nBlack\n \nAuditoriu Teodoro Cuesta \nEntrada libre hasta completar aforo \n  \nEsta actuación se enmarca en el programa Dinamiz-ARTj que promueve el Instituto para la Transición Justa (ITJ) para dinamizar la actividad cultural en los municipios afectados por el cierre de la minería y de las centrales térmicas y nucleares e impulsar la carrera de artistas que viven en estos territorios. \n\n\nProyecto musical con reinterpretaciones de grandes éxitos de la música negra. Un quinteto que acerca a los grandes de la música soul en su versión mas bailable para sacar al escenario a artistas como Donna Summer\, Diana Ross\, Justin Timberlake o Daft Punk. \n  \n  \n\n  \n\n\nQué es el programa Dinamiz- ARTj\n\n\n\n\nEs un programa del Instituto para la Transición Justa (ITJ) a través de la Fundación Ciudad de la Energía (CIUDEN) que pretende generar una oferta cultural amplia en los municipios afectados por el proceso de cierre de instalaciones en zonas de Transición Justa. Este programa aúna demanda cultural local\, actuaciones y actividades artísticas ofrecidas por jóvenes artistas\, programación cultural y mejora de la oferta turística. \n  \n\n\n\n\n \nA través del programa Dinamiz-ARTj se busca: \n\n\n\n\n\n\n\n\n\n\n\nDinamizar la actividad cultural en los municipios afectados por el cierre de las minas de carbón\, de las centrales térmicas y de las centrales nucleares\, donde el acceso a la cultura se ve dificultado como consecuencia de la crisis económica que padecen.\nFavorecer visitas a los municipios a través de la generación de actividad por medio de actuaciones y/o actividades culturales complementando así la oferta turística de zonas de alto valor paisajístico y medioambiental.\nImpulsar las carreras de jóvenes intérpretes y artistas españoles y residentes en España facilitándoles oportunidades profesionales.\nFomentar la cercanía a las artesmediante la capacidad didáctica de los artistas y el ejercicio de una reflexión sobre la conexión entre sentimientos artísticos y realidades sociales y emotivas en territorios afectados por los cierres de dichas instalaciones.\nFavorecer el intercambio social mediante el acceso gratuito a las convocatorias culturales programadas.\nColaborar en el arraigo al territorio de la población local que encuentra un nuevo aliciente e interés a través de las actividades culturales desarrolladas en su zona.\n\n\n\n\n\n\n\n\n  \nPromovido por: \n\n\nPrograma Dinamiz ARTj: www.dinamizartj.com\nInstituto para la Transición Justa (ITJ): www.transicionjusta.gob.es/\nFundación Ciudad de la Energía (CIUDEN): www.ciuden.es/\n\n\n\n 
URL:https://www.mieres.es/evento/concierto-black-grandes-exitos-de-la-musica-negra-por-el-grupo-black/
LOCATION:Casa de Cultura Teodoro Cuesta\, Calle Manuel Llaneza\, 8\, Mieres\, Asturias\, 33600\, España
CATEGORIES:Música
ATTACH;FMTTYPE=image/jpeg:https://www.mieres.es/wp-content/uploads/2025/11/CARTELblack-exitos-musica-negra-mieres-2025.jpg
GEO:43.2502294;-5.7729571
X-APPLE-STRUCTURED-LOCATION;VALUE=URI;X-ADDRESS=Casa de Cultura Teodoro Cuesta Calle Manuel Llaneza 8 Mieres Asturias 33600 España;X-APPLE-RADIUS=500;X-TITLE=Calle Manuel Llaneza\, 8:geo:-5.7729571,43.2502294
END:VEVENT
END:VCALENDAR