BEGIN:VCALENDAR
VERSION:2.0
PRODID:-//Ayuntamiento de Mieres - ECPv5.16.1.1//NONSGML v1.0//EN
CALSCALE:GREGORIAN
METHOD:PUBLISH
X-WR-CALNAME:Ayuntamiento de Mieres
X-ORIGINAL-URL:https://www.mieres.es
X-WR-CALDESC:Eventos para Ayuntamiento de Mieres
BEGIN:VTIMEZONE
TZID:Europe/Madrid
BEGIN:DAYLIGHT
TZOFFSETFROM:+0100
TZOFFSETTO:+0200
TZNAME:CEST
DTSTART:20210328T010000
END:DAYLIGHT
BEGIN:STANDARD
TZOFFSETFROM:+0200
TZOFFSETTO:+0100
TZNAME:CET
DTSTART:20211031T010000
END:STANDARD
END:VTIMEZONE
BEGIN:VEVENT
DTSTART;TZID=Europe/Madrid:20211212T130000
DTEND;TZID=Europe/Madrid:20211212T130000
DTSTAMP:20260423T172418
CREATED:20211129T094117Z
LAST-MODIFIED:20211129T094117Z
UID:50723-1639314000-1639314000@www.mieres.es
SUMMARY:Concierto especial Villancicos\, Banda de Música de Mieres
DESCRIPTION:Concierto especial: \n“Villancicos”\nBanda de Música de Mieres\n\nDirector: Jesús Alberto Alonso Pacheco \nVoz solista: Patri Pariente\nVoz en off: Elena Moya\nEdición Vídeo / Imagen: Luis Serrano \n  \nDomingo 12 de diciembre\, 13:00 h\nAuditorio Teodoro Cuesta \nEntrada gratuita hasta completar aforo\, previa retirada de invitación.\nRecogida de invitaciones en la Consejería de la Casa de Cultura o reserva en el teléfono: 985 45 19 53 \n\n  \nCon la llegada de las tradicionales celebraciones navideñas\, desde la Banda de Música de Mieres queremos mostrar la conexión cultural del norte y sur de nuestro país a través de algunos de los villancicos más emblemáticos de Asturias y Andalucia. \nCon la Voz de Patri Pariente y una selección de imágenes hechas por Luis Serrano haremos un recorrido geográfico por la música de dos comunidades tan alejadas geográficamente como unidas en los valores humanos. \nCon una selección de cuatro villancicos asturianos abrimos la velada:\n-“Llegó Navidá” de nuestro director Jesús Alberto Alonso Pacheco estrenado en diciembre de 2018 con las voces del Orfeón San Lorenzo.\n-“Los Reis Magos” de Sor Canción\, popularizado por la voz de Chus Pedro y la música de Nuberu.\n-“Nun hay tal andar”\, letra y música popular\, representativo de nuestra cultura\, recogido y recopilado en el Cancionero de Eduardo Martínez Torner y pieza habitual en las formaciones corales de nuestra región.\n-“El Portalín de Piedra” del mierense Victor Manuel San José\, pieza con la que ganó el III Festival de Villancicos Nuevos de Pamplona y que graba en un sencillo junto a “Ya se escuchan las panderetas” en 1969. \nLa segunda parte está dedicada al folklore andaluz\, con una selección de villancicos muy conocidos y representativos de estas fechas que se incluyen en el repertorio de todo tipo de formaciones vocales e instrumentales dentro de los Conciertos navideños. \nDesde la Banda de Música de Mieres les deseamos unas Felices Fiestas y un próspero 2022. \n  \nPROGRAMA \n1.Llegó Navidad \n2.Los Reis Magos \n3.Nun hay tal andar \n4.El Portalín de Piedra \n5.Gatatumba \n6.Con Azúcar y Canela \n7.Hay que sembrar en Navidad \n8.Pobre Nació \n9.Arre Borriquito \n10.Campana sobre Campana \n11.La Mari morena \n12.Los peces en el río \n 
URL:https://www.mieres.es/evento/concierto-especial-villancicos-banda-de-musica-de-mieres/
LOCATION:Casa de Cultura Teodoro Cuesta\, Calle Manuel Llaneza\, 8\, Mieres\, Asturias\, 33600\, España
CATEGORIES:Música
ATTACH;FMTTYPE=image/jpeg:https://www.mieres.es/wp-content/uploads/2021/11/concierto-villancicos-banda-musica-mieres-dic2021.jpeg
GEO:43.2502294;-5.7729571
X-APPLE-STRUCTURED-LOCATION;VALUE=URI;X-ADDRESS=Casa de Cultura Teodoro Cuesta Calle Manuel Llaneza 8 Mieres Asturias 33600 España;X-APPLE-RADIUS=500;X-TITLE=Calle Manuel Llaneza\, 8:geo:-5.7729571,43.2502294
END:VEVENT
END:VCALENDAR