BEGIN:VCALENDAR
VERSION:2.0
PRODID:-//Ayuntamiento de Mieres - ECPv5.16.1.1//NONSGML v1.0//EN
CALSCALE:GREGORIAN
METHOD:PUBLISH
X-WR-CALNAME:Ayuntamiento de Mieres
X-ORIGINAL-URL:https://www.mieres.es
X-WR-CALDESC:Eventos para Ayuntamiento de Mieres
BEGIN:VTIMEZONE
TZID:Europe/Madrid
BEGIN:DAYLIGHT
TZOFFSETFROM:+0100
TZOFFSETTO:+0200
TZNAME:CEST
DTSTART:20260329T010000
END:DAYLIGHT
BEGIN:STANDARD
TZOFFSETFROM:+0200
TZOFFSETTO:+0100
TZNAME:CET
DTSTART:20261025T010000
END:STANDARD
END:VTIMEZONE
BEGIN:VEVENT
DTSTART;TZID=Europe/Madrid:20260425T200000
DTEND;TZID=Europe/Madrid:20260425T200000
DTSTAMP:20260424T192640
CREATED:20260424T102033Z
LAST-MODIFIED:20260424T102033Z
UID:78639-1777147200-1777147200@www.mieres.es
SUMMARY:Conciertos de La Panadería 2026: "Johnny Penicilina y los Frixuelos Eléctricos"
DESCRIPTION:  \n \n\nLa Asociación Cultural Serondaya acude a su cita con la música en directo con un nuevo ciclo de sus CONCIERTOS DE LA PANADERÍA. Este singular ciclo musical alcanza su decimoquinta edición y se ha convertido ya en toda una referencia en el mundo de la música en Asturias y fuera de Asturias. \nLos conciertos se celebran en el local social de Serondaya\, en Cenera\, para las noches de los sábados del 21 de febrero al 25 de abril\, con entrada libre y gratuita hasta completar aforo. \n\n\n  \nSábado\, 25 de abril\n20:00h\n \nJOHNNY PENICILINA Y LOS FRIXUELOS ELECTRICOS (AIRADOS DEL POP IRRACIONALMENTE DESESTRUCTURADO)\n  \nHace ya casi 2 décadas que Johnny Penicilina lidera carismáticamente un proyecto musical junto a su banda Los Frixuelos Eléctricos. Nos presentan su quinto álbum “SIN UNA BALA” . El grupo sin duda es un verdadero animal del directo\, la banda se creó para el combate cuerpo a cuerpo con el público\, y cuanto más corta sea esa distancia mejor que mejor \, ese es su hábitat natural. Así la banda se ha recorrido la mayoría de los escenarios regionales además de alguno internacional ( 6 años han pisado el escenario del mítico Cavern Club de Liverpool dentro de la programación de Hope To Be There ) . Los textos que Johnny Penicilina escribe para los temas dotan a estos de una personalidad que supura una honestidad brutal por los cuatro costados. No dejan a nadie indiferente. Su repertorio lo conforman temas propios\, originales: desde el rock más canalla\, pasando por el power-pop \, rozando el punk \, el rock de guitarras\, y siempre con su sello personal\, “a guitarrazo limpio”\, sin trampa ni cartón. Aasistir a un concierto de la banda es asistir a una ceremonia donde el rock y la diversión van de la mano. \nLA BANDA SON: JOHNNY PENICILINA . Armónicas y voz; JOSE MAXIDE “MAX”\, Guitarra rítmica; ALFONSO FERNANDEZ “FON”. Guitarra solista; CESAR LONGO “LONGO”. Batería; MARCOS COCAÑO “PADRE KARRAS”. Bajo
URL:https://www.mieres.es/evento/conciertos-de-la-panaderia-2026-johnny-penicilina-y-los-frixuelos-electricos/
LOCATION:Cenera\, Cenera\, Asturias\, 33615\, España
CATEGORIES:Cultura Tradicional,Música
ATTACH;FMTTYPE=image/jpeg:https://www.mieres.es/wp-content/uploads/2026/02/Conciertos-panaderia-2026.jpg
ORGANIZER;CN="Asoc.%20Cultural%20Serondaya":MAILTO:acserondaya@gmail.com
GEO:43.2176497;-5.8185729
END:VEVENT
END:VCALENDAR