BEGIN:VCALENDAR
VERSION:2.0
PRODID:-//Ayuntamiento de Mieres - ECPv5.16.1.1//NONSGML v1.0//EN
CALSCALE:GREGORIAN
METHOD:PUBLISH
X-WR-CALNAME:Ayuntamiento de Mieres
X-ORIGINAL-URL:https://www.mieres.es
X-WR-CALDESC:Eventos para Ayuntamiento de Mieres
BEGIN:VTIMEZONE
TZID:Europe/Madrid
BEGIN:DAYLIGHT
TZOFFSETFROM:+0100
TZOFFSETTO:+0200
TZNAME:CEST
DTSTART:20250330T010000
END:DAYLIGHT
BEGIN:STANDARD
TZOFFSETFROM:+0200
TZOFFSETTO:+0100
TZNAME:CET
DTSTART:20251026T010000
END:STANDARD
END:VTIMEZONE
BEGIN:VEVENT
DTSTART;TZID=Europe/Madrid:20251219T200000
DTEND;TZID=Europe/Madrid:20251219T200000
DTSTAMP:20260421T010734
CREATED:20251128T121349Z
LAST-MODIFIED:20251211T082558Z
UID:76734-1766174400-1766174400@www.mieres.es
SUMMARY:"El chigre menguante"\, de Saltantes Teatro
DESCRIPTION:Teatro \nEl chigre menguante\nde Saltantes Teatro\n \n  \nViernes\, 19 de diciembre\, 20:00h. \nAuditoriu Teodoro Cuesta \nEntrada libre hasta completar aforo \nPrograma Asturies Cultura en Rede – Artes Escénicas \n\n  \nSinopsis\n“¿Qué une a unos tipos que deambulan a miles y miles de kilómetros entre sí? ¿Qué oscura y profunda conexión? ¿Qué lazo indisoluble y sentimental les mantiene atados de por vida\, con un sentido de pertenencia\, con un vínculo irremediable que no se romperá jamás? Que son asturianos”. \nAsí comienza el planteamiento de “El chigre menguante”\, a partir de cinco intérpretes que nos ayudan a vivir y empatizar con la vida y el sentir asturiano. Desde la democracia hasta la actualidad reflexionamos con la forma de ser de la asturiana y el asturiano\, de las familias\, del foriatu\, del gallu\, del babayu\, del grandón\, del repunante… Se reflejan\, desde la elegancia de los personajes planteados por Maxi Rodríguez\, los tiempos de gloria y de crisis del Principado de Asturias\, pero siempre desde la opinión de ese humilde local al que llamamos “chigre” en Asturias. \n  \nAutor y Director: Maxi Rodríguez \nIntérpretes:\nLuis Alija\, Nerea Vázquez\, Carlos Mesa\, Alberto Rodríguez\, David Varela. \nCoreografía y movimiento escénico: Estrella García\nEspacio sonoro: David Varela\nIluminación: Carlos Dávila\nVestuario: Azucena Rico\nEscenografía: Nuria Trabanco\nDiseño gráfico: Sergio Llunik\nVídeo y foto: Javier Lueje\nProducción: Luis Alija\nAyudantía producción: Carla Loga\nCaracterización: Inés Argüelles \n \n 
URL:https://www.mieres.es/evento/el-chigre-menguante-de-saltantes-teatro/
LOCATION:Casa de Cultura Teodoro Cuesta\, Calle Manuel Llaneza\, 8\, Mieres\, Asturias\, 33600\, España
CATEGORIES:Teatro
ATTACH;FMTTYPE=image/jpeg:https://www.mieres.es/wp-content/uploads/2025/11/teatro-chigre-menguante-mieres.jpeg
GEO:43.2502294;-5.7729571
X-APPLE-STRUCTURED-LOCATION;VALUE=URI;X-ADDRESS=Casa de Cultura Teodoro Cuesta Calle Manuel Llaneza 8 Mieres Asturias 33600 España;X-APPLE-RADIUS=500;X-TITLE=Calle Manuel Llaneza\, 8:geo:-5.7729571,43.2502294
END:VEVENT
END:VCALENDAR