BEGIN:VCALENDAR
VERSION:2.0
PRODID:-//Ayuntamiento de Mieres - ECPv5.16.1.1//NONSGML v1.0//EN
CALSCALE:GREGORIAN
METHOD:PUBLISH
X-WR-CALNAME:Ayuntamiento de Mieres
X-ORIGINAL-URL:https://www.mieres.es
X-WR-CALDESC:Eventos para Ayuntamiento de Mieres
BEGIN:VTIMEZONE
TZID:Europe/Madrid
BEGIN:DAYLIGHT
TZOFFSETFROM:+0100
TZOFFSETTO:+0200
TZNAME:CEST
DTSTART:20250330T010000
END:DAYLIGHT
BEGIN:STANDARD
TZOFFSETFROM:+0200
TZOFFSETTO:+0100
TZNAME:CET
DTSTART:20251026T010000
END:STANDARD
END:VTIMEZONE
BEGIN:VEVENT
DTSTART;TZID=Europe/Madrid:20251023T173000
DTEND;TZID=Europe/Madrid:20251023T173000
DTSTAMP:20260420T092727
CREATED:20251001T101714Z
LAST-MODIFIED:20251001T101714Z
UID:75893-1761240600-1761240600@www.mieres.es
SUMMARY:Entrega de premios a los/as superlectores/as del año y Cuentacuentos-Taller "El cuentu la bruxa"
DESCRIPTION:Cuentacuentos y taller de animación a la lectura\nEspecial Otoño \n“El cuentu la bruxa”\nEntrega de premios a los/as superlectores/as del año\nJueves\, 23 de octubre de 2025\n17:30h. \nBiblioteca Pública de Santa Cruz \n\nLa Red de Bibliotecas Municipales de Mieres organiza un nuevo cuentacuentos y taller de animación a la lectura\, en esta ocasión “Especial otoño”… Disfrutareis de un divertido cuento\, de juegos y de una manualidad. Realizado por CuatroGotes Producciones. \n✍️Podéis apuntaros en la Biblioteca de Santa Cruz\, hasta el  22 de octubre\, martes y jueves\, en horario de 16:00 a 19:00\, o al ☎️teléfono 985420059. \n  \n\n  \n 
URL:https://www.mieres.es/evento/entrega-de-premios-a-los-as-superlectores-as-del-ano-y-cuentacuentos-taller-el-cuentu-la-bruxa-2/
LOCATION:Biblioteca Pública de Santa Cruz\,  Polideportivo Santa Cruz\, 1ª planta. 33612 Mieres (Asturias)\, Santa Cruz\, Asturias\, 33612
CATEGORIES:Bibliotecas,Cuentacuentos
ATTACH;FMTTYPE=image/jpeg:https://www.mieres.es/wp-content/uploads/2025/10/cuentu-bruxa-biblioteca-sta-cuz-2025.jpg
ORGANIZER;CN="Red%20de%20Bibliotecas%20Municipales%20de%20Mieres":MAILTO:biblioteca@ayto-mieres.es
GEO:43.189207;-5.7668515
X-APPLE-STRUCTURED-LOCATION;VALUE=URI;X-ADDRESS=Biblioteca Pública de Santa Cruz  Polideportivo Santa Cruz 1ª planta. 33612 Mieres (Asturias) Santa Cruz Asturias 33612;X-APPLE-RADIUS=500;X-TITLE=Polideportivo Santa Cruz\, 1ª planta. 33612 Mieres (Asturias):geo:-5.7668515,43.189207
END:VEVENT
END:VCALENDAR