BEGIN:VCALENDAR
VERSION:2.0
PRODID:-//Ayuntamiento de Mieres - ECPv5.16.1.1//NONSGML v1.0//EN
CALSCALE:GREGORIAN
METHOD:PUBLISH
X-WR-CALNAME:Ayuntamiento de Mieres
X-ORIGINAL-URL:https://www.mieres.es
X-WR-CALDESC:Eventos para Ayuntamiento de Mieres
BEGIN:VTIMEZONE
TZID:Europe/Madrid
BEGIN:DAYLIGHT
TZOFFSETFROM:+0100
TZOFFSETTO:+0200
TZNAME:CEST
DTSTART:20250330T010000
END:DAYLIGHT
BEGIN:STANDARD
TZOFFSETFROM:+0200
TZOFFSETTO:+0100
TZNAME:CET
DTSTART:20251026T010000
END:STANDARD
END:VTIMEZONE
BEGIN:VEVENT
DTSTART;TZID=Europe/Madrid:20251022T173000
DTEND;TZID=Europe/Madrid:20251022T173000
DTSTAMP:20260420T074642
CREATED:20251001T100531Z
LAST-MODIFIED:20251001T100531Z
UID:75890-1761154200-1761154200@www.mieres.es
SUMMARY:Entrega de premios a los/as superlectores/as del año y Cuentacuentos-Taller "El cuentu la bruxa"
DESCRIPTION:Cuentacuentos y taller de animación a la lectura\nEspecial Otoño \n“El cuentu la bruxa”\nEntrega de premios a los/as superlectores/as del año\nMiércoles\, 22 de octubre de 2025\n17:30h. \nBiblioteca Pública de Ujo \n\nLa Red de Bibliotecas Municipales de Mieres organiza un nuevo cuentacuentos y taller de animación a la lectura\, en esta ocasión “Especial otoño”… Disfrutareis de un divertido cuento\, de juegos y de una manualidad. Realizado por CuatroGotes Producciones. \n✍️Podéis apuntaros en la Biblioteca de Uxo\, hasta el  22 de octubre\, de lunes a viernes\, en horario de 16:00 a 19:00 horas o al ☎️ teléfono 985422109. \n  \n\n  \n 
URL:https://www.mieres.es/evento/entrega-de-premios-a-los-as-superlectores-as-del-ano-y-cuentacuentos-taller-el-cuentu-la-bruxa/
LOCATION:Biblioteca Pública de Ujo\,  C/ Doctor Julio Rodríguez Vigil\, s/n\, Ujo\, Asturias\, 33640 
CATEGORIES:Bibliotecas,Cuentacuentos
ATTACH;FMTTYPE=image/jpeg:https://www.mieres.es/wp-content/uploads/2025/10/cuentu-bruxa-biblioteca-ujo-2025.jpg
ORGANIZER;CN="Red%20de%20Bibliotecas%20Municipales%20de%20Mieres":MAILTO:biblioteca@ayto-mieres.es
GEO:43.2032356;-5.7911073
X-APPLE-STRUCTURED-LOCATION;VALUE=URI;X-ADDRESS=Biblioteca Pública de Ujo  C/ Doctor Julio Rodríguez Vigil s/n Ujo Asturias 33640;X-APPLE-RADIUS=500;X-TITLE=C/ Doctor Julio Rodríguez Vigil\, s/n:geo:-5.7911073,43.2032356
END:VEVENT
END:VCALENDAR