BEGIN:VCALENDAR
VERSION:2.0
PRODID:-//Ayuntamiento de Mieres - ECPv5.16.1.1//NONSGML v1.0//EN
CALSCALE:GREGORIAN
METHOD:PUBLISH
X-WR-CALNAME:Ayuntamiento de Mieres
X-ORIGINAL-URL:https://www.mieres.es
X-WR-CALDESC:Eventos para Ayuntamiento de Mieres
BEGIN:VTIMEZONE
TZID:Europe/Madrid
BEGIN:DAYLIGHT
TZOFFSETFROM:+0100
TZOFFSETTO:+0200
TZNAME:CEST
DTSTART:20210328T010000
END:DAYLIGHT
BEGIN:STANDARD
TZOFFSETFROM:+0200
TZOFFSETTO:+0100
TZNAME:CET
DTSTART:20211031T010000
END:STANDARD
END:VTIMEZONE
BEGIN:VEVENT
DTSTART;TZID=Europe/Madrid:20211116T120000
DTEND;TZID=Europe/Madrid:20211116T120000
DTSTAMP:20260424T094130
CREATED:20211115T163251Z
LAST-MODIFIED:20211115T165309Z
UID:50474-1637064000-1637064000@www.mieres.es
SUMMARY:Exposición fotográfica: "Por ser mujer"\, de David Pérez (16/30NOV)
DESCRIPTION:Exposición fotográfica: \n“Por ser mujer”\nDavid Pérez\n\nCasa de Cultura Teodoro Cuesta\nDel 16 al 30 de noviembre \nHorario de lunes a viernes\, de 12 a 14 y de 17 a 21 h. \n\n\n\nLa violencia contra las mujeres no es el resultado de actos aleatorios e individuales de mala conducta\, sino que está profundamente arraigada en las relaciones estructurales de desigualdad entre mujeres y hombres. Podemos  afirmar\, sin lugar a dudas\, que promover la igualdad de género es un objetivo fundamental para disminuir y lograr erradicar la violencia contra las mujeres. Las violencias machistas son la manifestación más grave de la desigualdad entre mujeres y hombres\, el resultado de un entramado complejo que incluye la socialización y la educación\, los medios de comunicación\, el lenguaje\, la representación política\, los puestos de dirección y de mando\, las jornadas laborales y los permisos parentales. \nEstas violencias están interiorizadas y naturalizadas hasta el punto de que creemos que las cosas “siempre fueron así” y por lo tanto\, nuestros valores y lugares dentro de la sociedad serían no solo incuestionables\, sino también inmutables. Es hora de decir basta. \nPor ser mujer nos muestra todas estas violencias a las que las mujeres estamos sometidas\, lo que no se dice no existe\, y para frenarlas debemos visibilizar estas situaciones\, por ellas\, por ti\, por mí y por todas.
URL:https://www.mieres.es/evento/exposicion-fotografica-por-ser-mujer-de-david-perez-16-30nov/
LOCATION:Casa de Cultura Teodoro Cuesta\, Calle Manuel Llaneza\, 8\, Mieres\, Asturias\, 33600\, España
CATEGORIES:Arte,Exposiciones,Igualdad
ATTACH;FMTTYPE=image/jpeg:https://www.mieres.es/wp-content/uploads/2021/11/exposicion-por-ser-mujer-mieres.jpeg
GEO:43.2502294;-5.7729571
X-APPLE-STRUCTURED-LOCATION;VALUE=URI;X-ADDRESS=Casa de Cultura Teodoro Cuesta Calle Manuel Llaneza 8 Mieres Asturias 33600 España;X-APPLE-RADIUS=500;X-TITLE=Calle Manuel Llaneza\, 8:geo:-5.7729571,43.2502294
END:VEVENT
END:VCALENDAR