BEGIN:VCALENDAR
VERSION:2.0
PRODID:-//Ayuntamiento de Mieres - ECPv5.16.1.1//NONSGML v1.0//EN
CALSCALE:GREGORIAN
METHOD:PUBLISH
X-WR-CALNAME:Ayuntamiento de Mieres
X-ORIGINAL-URL:https://www.mieres.es
X-WR-CALDESC:Eventos para Ayuntamiento de Mieres
BEGIN:VTIMEZONE
TZID:Europe/Madrid
BEGIN:DAYLIGHT
TZOFFSETFROM:+0100
TZOFFSETTO:+0200
TZNAME:CEST
DTSTART:20210328T010000
END:DAYLIGHT
BEGIN:STANDARD
TZOFFSETFROM:+0200
TZOFFSETTO:+0100
TZNAME:CET
DTSTART:20211031T010000
END:STANDARD
END:VTIMEZONE
BEGIN:VEVENT
DTSTART;TZID=Europe/Madrid:20211016T103000
DTEND;TZID=Europe/Madrid:20211016T103000
DTSTAMP:20260424T051038
CREATED:20211006T104533Z
LAST-MODIFIED:20211013T070610Z
UID:49672-1634380200-1634380200@www.mieres.es
SUMMARY:FIASCO 2021: Taller para jóvenes: "Mi (Eros)". Imparte\, Carlos Fernández.
DESCRIPTION:FIASCO2021 EROS Y TÁNATOS\nFestival Independiente Asturianu sobre Comunidá Cultural \nTaller para jóvenes\nMI (EROS)\n\nimpartido por Carlos Fernández \n  \nSábado 16 de octubre\, de 10:30 a 14h y de 16:30 a 19h\nMCC \nPara mayores de 16 años. Gratuito\nSe requiere inscripción\, a través del Tfno 985 45 19 53 o en la Conserjería de la Casa de Cultura de Mieres.\n \n\n  \n“Os propongo un encuentro creativo en el que nos valdremos de la fuerza poética y evocadora de Eros\, tomándolo como punto de partida para dialogar\, crear\, jugar. \nLo traeremos a nuestro / vuestro presente\, buscando palabras\, referencias\, reflexiones\, acciones\, música… que le den forma actual\, que generen relatos basados en vuestras vivencias y experiencias.  \nLa palabra será vuestra. No se me ocurre nada más cercano a ese dios armado de arco y flechas que representa el amor\, la pasión y la creación\, que el tiempo que habitáis\, el tiempo de la juventud”.  \n  \nDurante más de 20 años he trabajado como intérprete de teatro y danza\, he escrito\, dirigido y producido mis propias obras de teatro y he colaborado en la elaboración de dramaturgias con compañías de danza\, además de otros muchos trabajos relacionados con la escena y las Artes Vivas. Mis trabajos escénicos han sido presentados en teatros y festivales de toda España.  \nEn 2005 gané el Premio Casa de América- Festival Escena Contemporánea de Dramaturgia innovadora con mi obra Todo es distinto de cómo tú piensas.  \nHe sido invitado como artista residente al Festival Internacional de Teatro de la Bienal de Venecia y como representante español al Festival de Dramaturgia Europea de Chile.  \nCuatro de mis obras están publicadas en Pliegos de Teatro y Danza\, colección dirigida por Antonio Fernández Lera. Y el texto “Gabriel”\, en A veces me pregunto por qué sigo bailando\, Ó. Cornago (coord.)\, Continta me tienes\, Madrid. \nHe desarrollado un trabajo formativo para profesionales de las artes escénicas en lugares como La Casa Encendida (Madrid)\, Instituto Cervantes (Madrid)\, Universidad de Alcalá de Henares\, entre otros.  \nCoordino junto con Marisa Amor el proyecto Desplegándose. Dentro de las áreas del Movimiento\, la Expresión y el Juego\, ofrecemos espacios y talleres en los que buscamos que cada persona pueda desplegar su imaginario y su ser creativo con libertad y cuidado.  \n  \n  \n\nLa quinta edición de FIASCO pivota sobre un doble eje: “EROS y TANATOS”. Una dupla de poder hipnótico que atañe a toda la especie\, podríamos decir que el eje más democrático y universal.  \nFIASCO ha venido conversando con la ciudadanía de Mieres y de Asturias durante estos años\, sin duda fructíferos. La apuesta no era simple\, la oferta no era fácil\, la premisa supuraba intencionalidad. Aún así\, hemos ido logrando la comunión e incluso hemos conseguido hacer del eslogan “Mieres\, lugar de peregrinación cultural”\, algo tangible. \nEste año venimos fuerte: estiramos los límites de la cultura hasta que se nos agrieten las costuras mentales. Y queremos seguir induciendo hacia la celebración de la duda y hacia la provocación del equívoco: hasta la ruptura de lo que nos parecía infranqueable.  \nVenimos fuerte\, venimos X. Venimos con la ética en la mano y con la controversia en la otra. Venimos a jugar y a juglar; juglares y jugones\, artistas de la mirada y del disparo: cineastas\, músicos\, fotógrafos\, pensadoras\, poetas\, ensayistas\, dibujantes\, cómicos…  \nNos gusta todo tiempo lo mismo que toda época y que toda voluntad emancipadora.  \nEn sus respectivas mesas\, en sus estrados bajos\, en los vis a vis\, poniendo en perspectiva al amor\, la muerte\, el deseo\, el suicidio\, el sexo\, la norma y la genitalidad desde diferentes prismas. \nInvitadas\, ponentes\, distinguido público: os convocamos a FIASCO 2021 para disfrutar de un programa que esperamos a la altura del nuestro primer lustro.  \nUn festival ambicioso\, obsceno\, proactivo\, hedonista\, respetuoso y radical. \nBienvenidas todas y todos a “EROS y TANATOS”. \n \n\n 
URL:https://www.mieres.es/evento/fiasco-2021-taller-para-jovenes-mi-eros-imparte-carlos-fernandez/
LOCATION:Mieres Centru Cultural\, Calle Jerónimo Ibrán\, 10\, Mieres\, Asturias\, 33600
CATEGORIES:Taller
ATTACH;FMTTYPE=image/jpeg:https://www.mieres.es/wp-content/uploads/2021/10/taller_miEros-FIASCO-2021-1200.jpg
END:VEVENT
END:VCALENDAR