BEGIN:VCALENDAR
VERSION:2.0
PRODID:-//Ayuntamiento de Mieres - ECPv5.16.1.1//NONSGML v1.0//EN
CALSCALE:GREGORIAN
METHOD:PUBLISH
X-WR-CALNAME:Ayuntamiento de Mieres
X-ORIGINAL-URL:https://www.mieres.es
X-WR-CALDESC:Eventos para Ayuntamiento de Mieres
BEGIN:VTIMEZONE
TZID:Europe/Madrid
BEGIN:DAYLIGHT
TZOFFSETFROM:+0100
TZOFFSETTO:+0200
TZNAME:CEST
DTSTART:20250330T010000
END:DAYLIGHT
BEGIN:STANDARD
TZOFFSETFROM:+0200
TZOFFSETTO:+0100
TZNAME:CET
DTSTART:20251026T010000
END:STANDARD
END:VTIMEZONE
BEGIN:VEVENT
DTSTART;TZID=Europe/Madrid:20251106T193000
DTEND;TZID=Europe/Madrid:20251106T193000
DTSTAMP:20260421T121728
CREATED:20251001T120820Z
LAST-MODIFIED:20251103T142033Z
UID:75925-1762457400-1762457400@www.mieres.es
SUMMARY:FIASCO2025: Bob Pop presenta "Hablar no sirve. De nada"
DESCRIPTION:FIASCO2025\nTeatro/Monólogo \nBob Pop presenta “Hablar no sirve. De nada”\nJueves\, 6 de noviembre\, 19:30h \nAuditoriu Teodoro Cuesta\nEntrada gratuita\, previa retirada de invitación\nInvitaciones disponibles a partir del viernes\, 3 de octubre (a las 10:30h)\, a través del siguiente enlace: https://forms.gle/Jq793puHE6Gc7vuk7 \n\n  \n\nHablar no sirve de Nada es una pieza sobre la dependencia\, la vulnerabilidad y la incomodidad que se genera tanto en el escenario como en la vida misma. \nA través de un relato íntimo y provocativo\, la obra explora temas tan universales como el amor\, el cuerpo\, el sexo\, las palabras o el tiempo e invita a reflexionar sobre la importancia de comunicarnos y comprendernos mutuamente. \n  \n“Empecé a escribir esto que vais a ver (o que os estáis pensando en ir a ver o que acabáis de ver) como un monólogo que me serviría para recorrer mis extraños encuentros con niños a lo largo de mi vida adulta. Me gustaba mucho esa idea\, la de una pieza teatral conmigo como único intérprete. Conmigo en mi silla de ruedas sobre el escenario con lo que tiene eso de vulnerable y con la simpatía o compasión que genera en el público verme esforzado\, dependiente y discapacitado en escena. Ese porno motivador que tanto gusta entre lxs espectadorxs bípedxs. Quería construir un artefacto dramático con el que quitaros las ganas de empatía\, compasión u onanismo de autosuperación y donde acabarais pensando que no soy un tipo de fiar\, que no merezco vuestra simpatía; haceros sentir tanta incomodidad en vuestra butaca como la que yo experimento cuando me paso más de una hora sin levantarme de mi silla de ruedas. \nHasta que descubrí que mi proyecto era imposible. Porque yo ya no hago monólogos. Porque la dependencia me impide hablar solo\, hacer cosas solo\, estar solo. Mis únicos monólogos son interiores y nadie paga una entrada por ellos. \nFue entonces cuando nació ‘HABLAR NO SIRVE. DE NADA’\, un monólogo imposible\, un diálogo necesario acerca de la importancia de contarnos las historias cuando al fin podemos entenderlas. Y de muchas cosas más: el amor\, el cuerpo\, el sexo\, las palabras\, el tiempo\, el dinero y el resto de cosas que sí sirven\, aunque sea para reírnos de ellas.” \nBob Pop \n  \n\n\n\nFICHA ARTÍSTICA\nAutor: Bob Pop\nDirector: Bob Pop\nIntérpretes: Bob Pop\, Daniel Bayona\nProducción Ejecutiva: Mauricio Rétiz\nDiseño Escenográfico: Elisenda Rodríguez\nLuces y Sonido: Elisenda Rodríguez\nDiseño cartel: Randomagus
URL:https://www.mieres.es/evento/fiasco2025-bob-pop-presenta-hablar-no-sirve-de-nada/
LOCATION:Casa de Cultura Teodoro Cuesta\, Calle Manuel Llaneza\, 8\, Mieres\, Asturias\, 33600\, España
CATEGORIES:Teatro
ATTACH;FMTTYPE=image/jpeg:https://www.mieres.es/wp-content/uploads/2025/10/bob-pop-cartel-mieres-2025.jpeg
GEO:43.2502294;-5.7729571
X-APPLE-STRUCTURED-LOCATION;VALUE=URI;X-ADDRESS=Casa de Cultura Teodoro Cuesta Calle Manuel Llaneza 8 Mieres Asturias 33600 España;X-APPLE-RADIUS=500;X-TITLE=Calle Manuel Llaneza\, 8:geo:-5.7729571,43.2502294
END:VEVENT
END:VCALENDAR