BEGIN:VCALENDAR
VERSION:2.0
PRODID:-//Ayuntamiento de Mieres - ECPv5.16.1.1//NONSGML v1.0//EN
CALSCALE:GREGORIAN
METHOD:PUBLISH
X-WR-CALNAME:Ayuntamiento de Mieres
X-ORIGINAL-URL:https://www.mieres.es
X-WR-CALDESC:Eventos para Ayuntamiento de Mieres
BEGIN:VTIMEZONE
TZID:Europe/Madrid
BEGIN:DAYLIGHT
TZOFFSETFROM:+0100
TZOFFSETTO:+0200
TZNAME:CEST
DTSTART:20250330T010000
END:DAYLIGHT
BEGIN:STANDARD
TZOFFSETFROM:+0200
TZOFFSETTO:+0100
TZNAME:CET
DTSTART:20251026T010000
END:STANDARD
END:VTIMEZONE
BEGIN:VEVENT
DTSTART;VALUE=DATE:20251205
DTEND;VALUE=DATE:20251206
DTSTAMP:20260421T051320
CREATED:20251128T104241Z
LAST-MODIFIED:20251128T104241Z
UID:76721-1764892800-1764979199@www.mieres.es
SUMMARY:Fiestas de Santa Bárbara 2025
DESCRIPTION:Fiestas de Santa Bárbara 2025 \nViernes\, 5 de diciembre \n\n09:00 a 15:00h.  Reparto del bollu a los/las colaboradores/as\n18:30h. Actuación del grupo Blues Mood\n23:00h.  Verbena\, con la Orquesta D’Cano\n\n  \nParque Xovellanos \nOrganiza: Asociación Cultural y Minera Santa Bárbara
URL:https://www.mieres.es/evento/fiestas-de-santa-barbara-2025-3/
LOCATION:Parque Xovellanos\, Parque Xovellanos\, Mieres\, Asturias\, 33600 
CATEGORIES:Festejos
ATTACH;FMTTYPE=image/jpeg:https://www.mieres.es/wp-content/uploads/2025/11/Cartel_Fiestas_Santa-Barbara_2025.jpg
GEO:43.2517322;-5.7764018
X-APPLE-STRUCTURED-LOCATION;VALUE=URI;X-ADDRESS=Parque Xovellanos Parque Xovellanos Mieres Asturias 33600;X-APPLE-RADIUS=500;X-TITLE=Parque Xovellanos:geo:-5.7764018,43.2517322
END:VEVENT
END:VCALENDAR