BEGIN:VCALENDAR
VERSION:2.0
PRODID:-//Ayuntamiento de Mieres - ECPv5.16.1.1//NONSGML v1.0//EN
CALSCALE:GREGORIAN
METHOD:PUBLISH
X-WR-CALNAME:Ayuntamiento de Mieres
X-ORIGINAL-URL:https://www.mieres.es
X-WR-CALDESC:Eventos para Ayuntamiento de Mieres
BEGIN:VTIMEZONE
TZID:Europe/Madrid
BEGIN:DAYLIGHT
TZOFFSETFROM:+0100
TZOFFSETTO:+0200
TZNAME:CEST
DTSTART:20250330T010000
END:DAYLIGHT
BEGIN:STANDARD
TZOFFSETFROM:+0200
TZOFFSETTO:+0100
TZNAME:CET
DTSTART:20251026T010000
END:STANDARD
END:VTIMEZONE
BEGIN:VEVENT
DTSTART;TZID=Europe/Madrid:20250514T120000
DTEND;TZID=Europe/Madrid:20250514T120000
DTSTAMP:20260421T135139
CREATED:20250512T071035Z
LAST-MODIFIED:20250514T115348Z
UID:74068-1747224000-1747224000@www.mieres.es
SUMMARY:Gastrovelada "Bocamina Planta 7" (Apertura de venta de entradas)
DESCRIPTION:  \n\nGastronomía \nBOCAMINA PLANTA SIETE\nPozu Espinos\nViernes 6\, sábado 7\, viernes 13 y sábado 14 de junio \nEntradas a la venta a partir del miércoles 14 de mayo\, a las 12:00h. en la web:\nwww.mireservaonline.es \n\n  \nVuelve Bocamina\, en este caso en su planta 7. La cita\, que une gastronomía y patrimonio y tradición e innovación\, se convierte en cada edición en un gran éxito ofreciendo una experiencia inmersiva y auténtica que se vive y se disfruta con todos los sentidos. \nBocamina\, que volverá a tener el Pozu Espinos como escenario y también hará parada en los pozos San José y Santa Bárbara\, volverá a contar con un chef con Estrella Michelín\, Israel Moreno\, quien\, junto a Marcos Cienfuegos\, se encargarán de un menú gastronómico que tendrá 12 pases entre aperitivos\, entrantes\, principales y postres… Una propuesta innovadora y totalmente novedosa para este Bocamina Planta 7. \nLas fechas de Bocamina Planta 7 son 6 y 7 y 13 y 14 de junio y las entradas\, con un precio de 85 euros\, saldrán a la venta el miércoles 14 de mayo\, a las 12 horas\, a través de www.mireservaonline.es \n 
URL:https://www.mieres.es/evento/gastrovelada-bocamina-planta-7-apertura-de-venta-de-entradas/
LOCATION:Pozu Espinos\, Caserio Preximir\, 4\, 33610 Santandrés\, Asturias\, 33610
CATEGORIES:Gastronomía
ATTACH;FMTTYPE=image/jpeg:https://www.mieres.es/wp-content/uploads/2025/05/bocamina-panta-7-2025.jpeg
ORGANIZER;CN="Concejal%C3%ADa%20de%20Turismo":MAILTO:turismo@ayto-mieres.es
END:VEVENT
END:VCALENDAR