BEGIN:VCALENDAR
VERSION:2.0
PRODID:-//Ayuntamiento de Mieres - ECPv5.16.1.1//NONSGML v1.0//EN
CALSCALE:GREGORIAN
METHOD:PUBLISH
X-WR-CALNAME:Ayuntamiento de Mieres
X-ORIGINAL-URL:https://www.mieres.es
X-WR-CALDESC:Eventos para Ayuntamiento de Mieres
BEGIN:VTIMEZONE
TZID:Europe/Madrid
BEGIN:DAYLIGHT
TZOFFSETFROM:+0100
TZOFFSETTO:+0200
TZNAME:CEST
DTSTART:20230326T010000
END:DAYLIGHT
BEGIN:STANDARD
TZOFFSETFROM:+0200
TZOFFSETTO:+0100
TZNAME:CET
DTSTART:20231029T010000
END:STANDARD
END:VTIMEZONE
BEGIN:VEVENT
DTSTART;TZID=Europe/Madrid:20230121T130000
DTEND;TZID=Europe/Madrid:20230121T130000
DTSTAMP:20260423T103846
CREATED:20230120T123314Z
LAST-MODIFIED:20230120T132616Z
UID:60949-1674306000-1674306000@www.mieres.es
SUMMARY:Homenaje a Florentino Romero
DESCRIPTION:Florentino Romero\, ante la locomotora Varela de Montes. (Fotografía grupo Facebook Mieres años 80 y 90) \n\n  \n  \nHomenaje a Florentino Romero\n\n  \nSábado\, 21 de enero de 2023\, 13:00h.\nAntigua Estación FEVE de Mieres\n(Actual Centro de Servicios Sociales) \nDescubrimiento de placa conmemorativa en su honor. \n\n 
URL:https://www.mieres.es/evento/homenaje-a-florentino-romero/
LOCATION:Antigua estación FEVE (Centro de Servicios Sociales)\, Plaza de la Estación del Vasco\, Mieres\, Asturias\, 33600\, España
CATEGORIES:Homenaje
ATTACH;FMTTYPE=image/jpeg:https://www.mieres.es/wp-content/uploads/2023/01/Florentino-Romero.jpg
END:VEVENT
END:VCALENDAR