BEGIN:VCALENDAR
VERSION:2.0
PRODID:-//Ayuntamiento de Mieres - ECPv5.16.1.1//NONSGML v1.0//EN
CALSCALE:GREGORIAN
METHOD:PUBLISH
X-WR-CALNAME:Ayuntamiento de Mieres
X-ORIGINAL-URL:https://www.mieres.es
X-WR-CALDESC:Eventos para Ayuntamiento de Mieres
BEGIN:VTIMEZONE
TZID:Europe/Madrid
BEGIN:DAYLIGHT
TZOFFSETFROM:+0100
TZOFFSETTO:+0200
TZNAME:CEST
DTSTART:20240331T010000
END:DAYLIGHT
BEGIN:STANDARD
TZOFFSETFROM:+0200
TZOFFSETTO:+0100
TZNAME:CET
DTSTART:20241027T010000
END:STANDARD
END:VTIMEZONE
BEGIN:VEVENT
DTSTART;TZID=Europe/Madrid:20240412T180000
DTEND;TZID=Europe/Madrid:20240412T180000
DTSTAMP:20260421T120330
CREATED:20240409T115359Z
LAST-MODIFIED:20240409T115359Z
UID:68463-1712944800-1712944800@www.mieres.es
SUMMARY:Homenaje a la guerrilla antifranquista
DESCRIPTION:  \nHomenaje a la guerilla antifranquista\n\n“Siempre guerrilleros\, nunca bandoleros” \nCon las intervenciones de: \n\nNuria Ordóñez. Concejala de Memoria Democrática del Ilmo. Ayuntamiento de Mieres\nJulio César Fdez. Prieto. En representación de familiares de guerrilleros\nJosé Manuel Zapico. Secretario General de CCOO Asturias\nManuel Ángel Álvarez. Alcalde de Mieres\n\n  \nViernes\, 12 de abril de 2024. 18:00h \nEntrada del cementerio de Vegadotos \n\n 
URL:https://www.mieres.es/evento/homenaje-a-la-guerrilla-antifranquista/
LOCATION:Cementerio de Vegadotos\, Vegadotos\, Asturias\,  
CATEGORIES:Homenaje,Memoria Democrática
ATTACH;FMTTYPE=image/jpeg:https://www.mieres.es/wp-content/uploads/2024/04/Cartel-acto-homenaje-guerrilleros-2024-scaled.jpg
GEO:43.2655301;-5.729653
X-APPLE-STRUCTURED-LOCATION;VALUE=URI;X-ADDRESS=Cementerio de Vegadotos Vegadotos Asturias;X-APPLE-RADIUS=500;X-TITLE=Vegadotos:geo:-5.729653,43.2655301
END:VEVENT
END:VCALENDAR