BEGIN:VCALENDAR
VERSION:2.0
PRODID:-//Ayuntamiento de Mieres - ECPv5.16.1.1//NONSGML v1.0//EN
CALSCALE:GREGORIAN
METHOD:PUBLISH
X-WR-CALNAME:Ayuntamiento de Mieres
X-ORIGINAL-URL:https://www.mieres.es
X-WR-CALDESC:Eventos para Ayuntamiento de Mieres
BEGIN:VTIMEZONE
TZID:Europe/Madrid
BEGIN:DAYLIGHT
TZOFFSETFROM:+0100
TZOFFSETTO:+0200
TZNAME:CEST
DTSTART:20260329T010000
END:DAYLIGHT
BEGIN:STANDARD
TZOFFSETFROM:+0200
TZOFFSETTO:+0100
TZNAME:CET
DTSTART:20261025T010000
END:STANDARD
END:VTIMEZONE
BEGIN:VEVENT
DTSTART;TZID=Europe/Madrid:20260426T100000
DTEND;TZID=Europe/Madrid:20260426T100000
DTSTAMP:20260421T104425
CREATED:20260413T114133Z
LAST-MODIFIED:20260413T114133Z
UID:78464-1777197600-1777197600@www.mieres.es
SUMMARY:II Acuatlon escolar de Mieres
DESCRIPTION:Prueba deportiva \nII ACUATLON escolar de Mieres\n(Prebenjamín\, benjamín\, alevín\, infantil y cadete)\n\nDomingo\, 26 de abril de 2026\, a partir de las 10.00h.\nPiscina Municipal de Vega d’Arriba y circuito exterior\nInscripciones: www.triatlonasturias.es
URL:https://www.mieres.es/evento/ii-acuatlon-escolar-de-mieres/
LOCATION:Piscina Vega d’Arriba\, 33600 Mieres\, Asturias\, Mieres\, Asturias\, 33600\, España
CATEGORIES:Deportes
ATTACH;FMTTYPE=image/jpeg:https://www.mieres.es/wp-content/uploads/2026/04/Cartel_II_acuatlon_MIERES_2026.jpg
END:VEVENT
END:VCALENDAR