BEGIN:VCALENDAR
VERSION:2.0
PRODID:-//Ayuntamiento de Mieres - ECPv5.16.1.1//NONSGML v1.0//EN
CALSCALE:GREGORIAN
METHOD:PUBLISH
X-WR-CALNAME:Ayuntamiento de Mieres
X-ORIGINAL-URL:https://www.mieres.es
X-WR-CALDESC:Eventos para Ayuntamiento de Mieres
BEGIN:VTIMEZONE
TZID:Europe/Madrid
BEGIN:DAYLIGHT
TZOFFSETFROM:+0100
TZOFFSETTO:+0200
TZNAME:CEST
DTSTART:20250330T010000
END:DAYLIGHT
BEGIN:STANDARD
TZOFFSETFROM:+0200
TZOFFSETTO:+0100
TZNAME:CET
DTSTART:20251026T010000
END:STANDARD
END:VTIMEZONE
BEGIN:VEVENT
DTSTART;TZID=Europe/Madrid:20251025T170000
DTEND;TZID=Europe/Madrid:20251025T170000
DTSTAMP:20260422T124649
CREATED:20251007T120919Z
LAST-MODIFIED:20251007T120919Z
UID:75992-1761411600-1761411600@www.mieres.es
SUMMARY:II Recreación Histórica:  "Turón 1934"\, por Grupo Frente del Nalón
DESCRIPTION:II Recreación Histórica: \n\nTurón 1934\npor Grupo Frente del Nalón\n\nSábado 25 de octubre de 2025. 17:00h. \n\nAlrededores del Atenéu de Turón \n\n\n\nDesde el año pasado la asociación Frente del Nalón y el Ayuntamiento de Mieres venimos organizando la recreación histórica Turón 1934\, y queremos que se convierta en fecha estable en nuestro calendario. El año pasado la dedicamos a narrar los eventos revolucionarios en el mismo Turón\, pero como nos gusta ir variando año tras año\, en esta edición vamos a darle otro enfoque. \nEspacialmente nos ubicaremos en el valle de Aller\, donde la acción del paternalismo industrial del marqués de Comillas había creado una pequeña masa de obreros contrarrevolucionarios; que aunque para los años de la república estaba ya de capa caída frente al auge del SOMA\, aún generó un pequeño núcleo de oposición a la revolución. \nEn esta edición mostraremos al público el ambiente previo a la insurrección obrera y el comienzo de la revolución\, así como las diferentes culturas políticas y sindicales presentes en las cuencas mineras en esos años. Se abordarán las dinámicas de la violencia política en la época\, las diferencias y acuerdos entre las distintas facciones del movimiento obrero\, la importancia del chigre como espacio de socialización y de la prensa como vehículo de difusión de ideas. Y por supuesto\, el desarrollo de los eventos revolucionarios desde la firma de la Alianza Obrera al estallido de la insurección. \nEl punto álgido de los combates será el asalto al local del Sindicato Católico de Obreros Mineros en Moreda; donde se encerraron casi treinta personas armadas (incluida una mujer) para resistir el avance de los revolucionarios\, que ya habían tomado los cuarteles de la guardia civil\, resistiendo dos días de asedio. \nTodo esto en el entorno del ateneo de Turón\, lugar histórico de la localidad\, que transportará al público a las calles de 1934. \n\n\n\n\n 
URL:https://www.mieres.es/evento/ii-recreacion-historica-turon-1934-por-grupo-frente-del-nalon/
LOCATION:Atenéu de Turón\, Calle Centro\, 9\, 33610 Mieres\, Asturias\, Turón\, Asturias\, 33610 \, España
CATEGORIES:Memoria Democrática
ATTACH;FMTTYPE=image/jpeg:https://www.mieres.es/wp-content/uploads/2025/10/recreacion-historica-Turón-2025.jpg
GEO:43.2091303;-5.7416142
X-APPLE-STRUCTURED-LOCATION;VALUE=URI;X-ADDRESS=Atenéu de Turón Calle Centro 9 33610 Mieres Asturias Turón Asturias 33610  España;X-APPLE-RADIUS=500;X-TITLE=Calle Centro\, 9\, 33610 Mieres\, Asturias:geo:-5.7416142,43.2091303
END:VEVENT
END:VCALENDAR