BEGIN:VCALENDAR
VERSION:2.0
PRODID:-//Ayuntamiento de Mieres - ECPv5.16.1.1//NONSGML v1.0//EN
CALSCALE:GREGORIAN
METHOD:PUBLISH
X-WR-CALNAME:Ayuntamiento de Mieres
X-ORIGINAL-URL:https://www.mieres.es
X-WR-CALDESC:Eventos para Ayuntamiento de Mieres
BEGIN:VTIMEZONE
TZID:Europe/Madrid
BEGIN:DAYLIGHT
TZOFFSETFROM:+0100
TZOFFSETTO:+0200
TZNAME:CEST
DTSTART:20240331T010000
END:DAYLIGHT
BEGIN:STANDARD
TZOFFSETFROM:+0200
TZOFFSETTO:+0100
TZNAME:CET
DTSTART:20241027T010000
END:STANDARD
END:VTIMEZONE
BEGIN:VEVENT
DTSTART;TZID=Europe/Madrid:20241119T193000
DTEND;TZID=Europe/Madrid:20241119T193000
DTSTAMP:20260421T122159
CREATED:20241030T104920Z
LAST-MODIFIED:20241030T104920Z
UID:71516-1732044600-1732044600@www.mieres.es
SUMMARY:Jornadas 25N. Ciclo cine Igualdad: “Tomates verdes fritos”\, de Jon Avnet
DESCRIPTION:JORNADAS 25N 2024\nCiclo cine Igualdad\nTomates verdes fritos\nMartes\, 19 de noviembre\, 19:30h\nAuditoriu Teodoro Cuesta \nEntrada libre hasta completar aforo \n\n  \nTítulo original: Fried Green Tomatoes\nAño: 1991\nDuración: 129 min.\nPaís: Estados Unidos\nDirección: Jon Avnet\nGuion: Fannie Flagg\, Carol Sobieski. Novela: Fannie Flagg\nMúsica: Thomas Newman\nFotografía: Geoffrey Simpson \n  \nReparto\nKathy Bates. Jessica Tandy. Mary Stuart Masterson. Mary-Louise Parker. Chris O’Donnell. Cicely Tyson. Gailard Sartain. Gary Basaraba… \nSinopsis\nEvelyn (Kathy Bates)\, una mujer madura que vive frustrada por su gordura y por la insensibilidad y simpleza de su marido\, conoce casualmente en un asilo a Ninny (Jessica Tandy)\, una anciana que le va contando poco a poco una dramática historia ocurrida en un pequeño pueblo de Alabama. El relato se hace cada vez más fascinante: gira en torno a la gran amistad entre dos mujeres (Mary Stuart Masterson y Mary-Louise Parker) y al misterioso asesinato del marido de una de ellas. Adaptación de una novela de Fannie Flagg. (FILMAFFINITY) \n  \nPremios\n1991: 2 nominaciones al Oscar: Mejor actriz de reparto (Jessica Tandy)\, guion adaptado\n1991: 3 nominaciones al Globo de Oro\, incluyendo película comedia o musical\n1991: Sindicato de Guionistas (WGA): Nominada a mejor guion adaptado\n1992: Premios BAFTA: Nominada a mejor actriz (Tandy) y actriz sec. (Bates)\n1992: Premios Guldbagge (Suecia): Nominada a Mejor película extranjera. \n  \n\nActividad financiada con cargo a los créditos del Pacto de Estado contra la violencia de género\, recibidos del Ministerio de la Presidencia\, Relaciones con las Cortes e Igualdad\, a través de la Secretaría de Estado \n\n  \n  \n \n 
URL:https://www.mieres.es/evento/jornadas-25n-ciclo-cine-igualdad-tomates-verdes-fritos-de-jon-avnet/
LOCATION:Casa de Cultura Teodoro Cuesta\, Calle Manuel Llaneza\, 8\, Mieres\, Asturias\, 33600\, España
CATEGORIES:Charlas-coloquio,Igualdad
ATTACH;FMTTYPE=image/jpeg:https://www.mieres.es/wp-content/uploads/2024/10/19N-cine-tomates.jpg
GEO:43.2502294;-5.7729571
X-APPLE-STRUCTURED-LOCATION;VALUE=URI;X-ADDRESS=Casa de Cultura Teodoro Cuesta Calle Manuel Llaneza 8 Mieres Asturias 33600 España;X-APPLE-RADIUS=500;X-TITLE=Calle Manuel Llaneza\, 8:geo:-5.7729571,43.2502294
END:VEVENT
END:VCALENDAR