BEGIN:VCALENDAR
VERSION:2.0
PRODID:-//Ayuntamiento de Mieres - ECPv5.16.1.1//NONSGML v1.0//EN
CALSCALE:GREGORIAN
METHOD:PUBLISH
X-WR-CALNAME:Ayuntamiento de Mieres
X-ORIGINAL-URL:https://www.mieres.es
X-WR-CALDESC:Eventos para Ayuntamiento de Mieres
BEGIN:VTIMEZONE
TZID:Europe/Madrid
BEGIN:DAYLIGHT
TZOFFSETFROM:+0100
TZOFFSETTO:+0200
TZNAME:CEST
DTSTART:20220327T010000
END:DAYLIGHT
BEGIN:STANDARD
TZOFFSETFROM:+0200
TZOFFSETTO:+0100
TZNAME:CET
DTSTART:20221030T010000
END:STANDARD
END:VTIMEZONE
BEGIN:VEVENT
DTSTART;TZID=Europe/Madrid:20220324T180000
DTEND;TZID=Europe/Madrid:20220324T180000
DTSTAMP:20260421T014729
CREATED:20220302T130708Z
LAST-MODIFIED:20220304T082212Z
UID:52442-1648144800-1648144800@www.mieres.es
SUMMARY:Jornadas 8M: Charla-Taller "Stand Up. Contra el acoso callejero"
DESCRIPTION:JORNADAS 8M 2022\nCharla-Taller\n“Stand Up. Contra el acoso callejero”\nImpartido por Fundación Mujeres \nCasa de las Mujeres\nViernes\, 24 de marzo\, 18:00 h. \nInscripciones gratuitas en la propia Casa de Encuentro de las Mujeres\, C/Jerónimo Ibrán\, 19\n(y a través del formulario web que encontrará en esta misma página web\, más abajo) \n\n  \nEn 2021\, Hollaback!\, L’Oréal Paris\, y Fundación Mujeres se unen para poner fin a la Violencia Machista y empoderar a las mujeres\, aprovechando la metodología 5D de Hollaback! para la intervención de forma segura\, tanto cuando se es testigo como cuando se experimenta una situación de acoso sexual en espacios públicos.\n\nA través de este taller de 1 hora de duración\, conoceremos un conjunto de herramientas claras\, adaptables y probadas por personas expertas que han demostrado reducir la prevalencia del acoso callejero. El objetivo del programa Stand Up es capacitar a 10\,000 residentes en España antes del final de 2022 y\, en última instancia\, construir una cultura donde el acoso callejero se considere un comportamiento inaceptable.\n  \n\nFORMULARIO DE INSCRIPCIÓN:\nCargando…Actividad financiada con cargo a los créditos del Pacto de Estado contra la violencia de género\, recibidos del Ministerio de la Presidencia\, Relaciones con las Cortes e Igualdad\, a través de la Secretaría de Estado de Igualdad.
URL:https://www.mieres.es/evento/jornadas-8m-charla-taller-stand-up-contra-el-acoso-callejero/
LOCATION:Casa de las Mujeres\, C/ Jerónimo Ibrán 19\, Mieres\, Asturias\, 33600\, España
CATEGORIES:Igualdad,Taller
ATTACH;FMTTYPE=image/jpeg:https://www.mieres.es/wp-content/uploads/2022/03/24-CARTEL-taller-STAND-UP-1200.jpg
GEO:43.2512334;-5.7731606
X-APPLE-STRUCTURED-LOCATION;VALUE=URI;X-ADDRESS=Casa de las Mujeres C/ Jerónimo Ibrán 19 Mieres Asturias 33600 España;X-APPLE-RADIUS=500;X-TITLE=C/ Jerónimo Ibrán 19:geo:-5.7731606,43.2512334
END:VEVENT
END:VCALENDAR