BEGIN:VCALENDAR
VERSION:2.0
PRODID:-//Ayuntamiento de Mieres - ECPv5.16.1.1//NONSGML v1.0//EN
CALSCALE:GREGORIAN
METHOD:PUBLISH
X-WR-CALNAME:Ayuntamiento de Mieres
X-ORIGINAL-URL:https://www.mieres.es
X-WR-CALDESC:Eventos para Ayuntamiento de Mieres
BEGIN:VTIMEZONE
TZID:Europe/Madrid
BEGIN:DAYLIGHT
TZOFFSETFROM:+0100
TZOFFSETTO:+0200
TZNAME:CEST
DTSTART:20250330T010000
END:DAYLIGHT
BEGIN:STANDARD
TZOFFSETFROM:+0200
TZOFFSETTO:+0100
TZNAME:CET
DTSTART:20251026T010000
END:STANDARD
END:VTIMEZONE
BEGIN:VEVENT
DTSTART;TZID=Europe/Madrid:20250318T193000
DTEND;TZID=Europe/Madrid:20250318T193000
DTSTAMP:20260421T135314
CREATED:20250225T094303Z
LAST-MODIFIED:20250225T094303Z
UID:72951-1742326200-1742326200@www.mieres.es
SUMMARY:Jornadas 8M. Ciclo de cine por la Igualdad: "Invisibles"\, de Gracia Querejeta
DESCRIPTION:JORNADAS 8M 2025\nCiclo de cine por la Igualdad\nInvisibles\nMartes\, 18 de marzo\, 19:30h\nAuditoriu Teodoro Cuesta \nEntrada libre hasta completar aforo \n\n\nTítulo original: Invisibles\nAño: 2020\nDuración: 80 min.\nPaís: España\nDirección: Gracia Querejeta\nGuion: Santos Mercero\, Gracia Querejeta\nMúsica: Federico Jusid\nFotografía: Juan Carlos Gómez \nReparto\nEmma Suárez\, Adriana Ozores\, Nathalie Poza\, Blanca Portillo\, Pedro Casablanc\, Fernando Cayo… \nSinopsis\nJulia\, Elsa y Amelia son tres amigas que un día decidieron comenzar a caminar juntas una vez por semana. Lo que empezó por ser una mera distracción y una forma de hacer ejercicio se ha terminado por convertir en una necesidad. Porque esos paseos les sirven también para estar informadas de lo que a cada una de ellas les ocurre. Poco a poco irán descubriendo que la amistad no es siempre idílica\, que en la amistad también se guardan secretos y se recurre a la mentira. \n  \n  \n\nActividad financiada con cargo a los créditos del Pacto de Estado contra la violencia de género\, recibidos del Ministerio de la Presidencia\, Relaciones con las Cortes e Igualdad\, a través de la Secretaría de Estado
URL:https://www.mieres.es/evento/jornadas-8m-ciclo-de-cine-por-la-igualdad-invisibles-de-gracia-querejeta/
LOCATION:Casa de Cultura Teodoro Cuesta\, Calle Manuel Llaneza\, 8\, Mieres\, Asturias\, 33600\, España
CATEGORIES:Cine,Igualdad
ATTACH;FMTTYPE=image/jpeg:https://www.mieres.es/wp-content/uploads/2025/02/5M-pelis-25.jpg
GEO:43.2502294;-5.7729571
X-APPLE-STRUCTURED-LOCATION;VALUE=URI;X-ADDRESS=Casa de Cultura Teodoro Cuesta Calle Manuel Llaneza 8 Mieres Asturias 33600 España;X-APPLE-RADIUS=500;X-TITLE=Calle Manuel Llaneza\, 8:geo:-5.7729571,43.2502294
END:VEVENT
END:VCALENDAR