BEGIN:VCALENDAR
VERSION:2.0
PRODID:-//Ayuntamiento de Mieres - ECPv5.16.1.1//NONSGML v1.0//EN
CALSCALE:GREGORIAN
METHOD:PUBLISH
X-WR-CALNAME:Ayuntamiento de Mieres
X-ORIGINAL-URL:https://www.mieres.es
X-WR-CALDESC:Eventos para Ayuntamiento de Mieres
BEGIN:VTIMEZONE
TZID:Europe/Madrid
BEGIN:DAYLIGHT
TZOFFSETFROM:+0100
TZOFFSETTO:+0200
TZNAME:CEST
DTSTART:20260329T010000
END:DAYLIGHT
BEGIN:STANDARD
TZOFFSETFROM:+0200
TZOFFSETTO:+0100
TZNAME:CET
DTSTART:20261025T010000
END:STANDARD
END:VTIMEZONE
BEGIN:VEVENT
DTSTART;TZID=Europe/Madrid:20260310T193000
DTEND;TZID=Europe/Madrid:20260310T193000
DTSTAMP:20260421T120515
CREATED:20260302T090056Z
LAST-MODIFIED:20260302T090056Z
UID:77855-1773171000-1773171000@www.mieres.es
SUMMARY:Jornadas 8M. Ciclo de cine por la Igualdad: "Te estoy amando locamente"\, de Alejandro Marín
DESCRIPTION:JORNADAS 8M 2026\nCiclo de cine por la Igualdad\nTe estoy amando locamente\nMartes\, 10 de marzo\, 19:30h\nAuditoriu Teodoro Cuesta \nEntrada libre hasta completar aforo \n\n\nTítulo original: Te estoy amando locamente\nAño: 2023\nDuración: 107 min.\nPaís: España\nDirección: Alejandro Marín\nGuion: Carmen Garrido Vacas\, Alejandro Marín\nMúsica: Nico Casal\nFotografía: Andreu Ortoll \nReparto\nAna Wagener\, Omar Banana\, Alba Flores\, Jesús Carroza\, Carmen Orellana… \nSinopsis\nSevilla\, 1977. En un momento en el que la homosexualidad es delito\, Reme\, una madre tradicional movida por el amor hacia su hijo\, un adolescente aspirante a artista\, se involucrará en el movimiento LGTBI andaluz\, gestado paradójicamente en el seno de la Iglesia. (FILMAFFINITY) \n  \n  \n\nActividad financiada con cargo a los créditos del Pacto de Estado contra la violencia de género\, recibidos del Ministerio de la Presidencia\, Relaciones con las Cortes e Igualdad\, a través de la Secretaría de Estado
URL:https://www.mieres.es/evento/jornadas-8m-ciclo-de-cine-por-la-igualdad-te-estoy-amando-locamente-de-alejandro-marin/
LOCATION:Casa de Cultura Teodoro Cuesta\, Calle Manuel Llaneza\, 8\, Mieres\, Asturias\, 33600\, España
CATEGORIES:Cine,Igualdad
ATTACH;FMTTYPE=image/jpeg:https://www.mieres.es/wp-content/uploads/2026/03/3M_cine-igualda.jpg
GEO:43.2502294;-5.7729571
X-APPLE-STRUCTURED-LOCATION;VALUE=URI;X-ADDRESS=Casa de Cultura Teodoro Cuesta Calle Manuel Llaneza 8 Mieres Asturias 33600 España;X-APPLE-RADIUS=500;X-TITLE=Calle Manuel Llaneza\, 8:geo:-5.7729571,43.2502294
END:VEVENT
END:VCALENDAR