BEGIN:VCALENDAR
VERSION:2.0
PRODID:-//Ayuntamiento de Mieres - ECPv5.16.1.1//NONSGML v1.0//EN
CALSCALE:GREGORIAN
METHOD:PUBLISH
X-WR-CALNAME:Ayuntamiento de Mieres
X-ORIGINAL-URL:https://www.mieres.es
X-WR-CALDESC:Eventos para Ayuntamiento de Mieres
BEGIN:VTIMEZONE
TZID:Europe/Madrid
BEGIN:DAYLIGHT
TZOFFSETFROM:+0100
TZOFFSETTO:+0200
TZNAME:CEST
DTSTART:20250330T010000
END:DAYLIGHT
BEGIN:STANDARD
TZOFFSETFROM:+0200
TZOFFSETTO:+0100
TZNAME:CET
DTSTART:20251026T010000
END:STANDARD
END:VTIMEZONE
BEGIN:VEVENT
DTSTART;TZID=Europe/Madrid:20251219T123000
DTEND;TZID=Europe/Madrid:20251219T123000
DTSTAMP:20260421T010853
CREATED:20251118T111400Z
LAST-MODIFIED:20251118T111400Z
UID:76553-1766147400-1766147400@www.mieres.es
SUMMARY:"La magia de la multiplicación". Taller Jornadas de puertas abiertas del Huerto Intergeneracional de La Mayacina
DESCRIPTION:Jornadas de puertas abiertas del Huerto Intergeneracional de La Mayacina \nMicro-Taller: \n\n“La magia de la multiplicación”\nImpartido por Ana María García\n  \nViernes\, 19 de diciembre de 2025. 12:30h. \n\n\nHuerto Intergeneracional de La Mayacina\nParticipación libre y gratuita \n\n\n\n\n  \nMicrotaller divulgativo sobre las técnicas básicas para la multiplicación de plantas. Se realizarán esquejes y división de matas.\nAdemás se atenderán todas las dudas y preguntas sobre el huerto sostenible y la salud. \n\n  \n\n\n 
URL:https://www.mieres.es/evento/la-magia-de-la-multiplicacion-taller-jornadas-de-puertas-abiertas-del-huerto-intergeneracional-de-la-mayacina/
LOCATION:Ecohuerto La Mayacina\, Asturias\, 33600\, España
CATEGORIES:Salud
ATTACH;FMTTYPE=image/jpeg:https://www.mieres.es/wp-content/uploads/2025/11/cartel-jornadas-ecohuerto-nov2025.jpg
END:VEVENT
END:VCALENDAR