BEGIN:VCALENDAR
VERSION:2.0
PRODID:-//Ayuntamiento de Mieres - ECPv5.16.1.1//NONSGML v1.0//EN
CALSCALE:GREGORIAN
METHOD:PUBLISH
X-WR-CALNAME:Ayuntamiento de Mieres
X-ORIGINAL-URL:https://www.mieres.es
X-WR-CALDESC:Eventos para Ayuntamiento de Mieres
BEGIN:VTIMEZONE
TZID:Europe/Madrid
BEGIN:DAYLIGHT
TZOFFSETFROM:+0100
TZOFFSETTO:+0200
TZNAME:CEST
DTSTART:20250330T010000
END:DAYLIGHT
BEGIN:STANDARD
TZOFFSETFROM:+0200
TZOFFSETTO:+0100
TZNAME:CET
DTSTART:20251026T010000
END:STANDARD
END:VTIMEZONE
BEGIN:VEVENT
DTSTART;TZID=Europe/Madrid:20250211T200000
DTEND;TZID=Europe/Madrid:20250211T200000
DTSTAMP:20260421T122150
CREATED:20250131T083523Z
LAST-MODIFIED:20250206T115419Z
UID:72660-1739304000-1739304000@www.mieres.es
SUMMARY:Laboral Cinemateca Ambulante Mieres: "Luna"\, de Pablo Casanueva
DESCRIPTION:Laboral Cinemateca Ambulante \n\nProyección de la película: \n“Luna”\nde Pablo Casanueva\n  \nAuditoriu Teodoro Cuesta\nEntrada libre hasta completar aforo \n\n  \n“He buscado las huellas y la memoria de mis familiares por los lugares donde estuvieron tras ser represaliados por el Franquismo. Me encontré en las fronteras\, en los campos y en las cárceles con su historia [y la mía] suspendida entre las grietas\, como pinturas antiguas que afloran tras quemar una iglesia. Dentro del archivo\, el familiar y el público\, vuelven a ser miradas las imágenes y leídos los documentos. La película ha construido un puente intergeneracional que me une con mi abuela y su madre. Todo ello resiste\, en palabras de Walter Benjamin\, a que nada de lo que ha acontecido pueda darse por perdido para la historia”. \n  \nEspaña | 2024 | 76 min. | VO español\, asturiano | NR -7 \nDirección: Pablo Casanueva \nInformación adicional: Festival Internacional de Cine de Gijón/Xixón 2024 \n  \nLa programación cinematográfica ofrecida por La Cinemateca Ambulante está coordinada por el Festival Internacional de Cine de Gijón/Xixón (Divertia Gijón S.A.).
URL:https://www.mieres.es/evento/laboral-cinemateca-ambulante-mieres-luna-de-pablo-casanueva/
LOCATION:Casa de Cultura Teodoro Cuesta\, Calle Manuel Llaneza\, 8\, Mieres\, Asturias\, 33600\, España
CATEGORIES:Cine
ATTACH;FMTTYPE=image/jpeg:https://www.mieres.es/wp-content/uploads/2025/01/cinemateca-mieres-luna.jpeg
GEO:43.2502294;-5.7729571
X-APPLE-STRUCTURED-LOCATION;VALUE=URI;X-ADDRESS=Casa de Cultura Teodoro Cuesta Calle Manuel Llaneza 8 Mieres Asturias 33600 España;X-APPLE-RADIUS=500;X-TITLE=Calle Manuel Llaneza\, 8:geo:-5.7729571,43.2502294
END:VEVENT
END:VCALENDAR