BEGIN:VCALENDAR
VERSION:2.0
PRODID:-//Ayuntamiento de Mieres - ECPv5.16.1.1//NONSGML v1.0//EN
CALSCALE:GREGORIAN
METHOD:PUBLISH
X-WR-CALNAME:Ayuntamiento de Mieres
X-ORIGINAL-URL:https://www.mieres.es
X-WR-CALDESC:Eventos para Ayuntamiento de Mieres
BEGIN:VTIMEZONE
TZID:Europe/Madrid
BEGIN:DAYLIGHT
TZOFFSETFROM:+0100
TZOFFSETTO:+0200
TZNAME:CEST
DTSTART:20230326T010000
END:DAYLIGHT
BEGIN:STANDARD
TZOFFSETFROM:+0200
TZOFFSETTO:+0100
TZNAME:CET
DTSTART:20231029T010000
END:STANDARD
END:VTIMEZONE
BEGIN:VEVENT
DTSTART;TZID=Europe/Madrid:20230124T190000
DTEND;TZID=Europe/Madrid:20230124T190000
DTSTAMP:20260423T122731
CREATED:20230112T123639Z
LAST-MODIFIED:20230117T123856Z
UID:60843-1674586800-1674586800@www.mieres.es
SUMMARY:Laboral Cinemateca Ambulante Mieres. Proyección de los documentales "Contracampos" e "Hilos"
DESCRIPTION:Laboral Cinemateca Ambulante \n\nProyección de los documentales: \n“Contracampos”\, de Ramón Lluís Bande\n“Hilos”\, de Tito Montero\n\n  \nAuditoriu Teodoro Cuesta\nEntrada libre hasta completar aforo \n\nUna misma realidad y dos miradas distintas: las que aportan dos cineastas asturianos que presentan sus trabajos en el FICX. En sus películas abordan la reconstrucción de la memoria por distintos procedimientos: en ‘Contracampos’ se intenta filmar algo (un espacio) de lo que no queda nada y en ‘Hilos’\, llenando los huecos del olvido con investigación y testimonio familiar. \n  \nTítulo original: Contracampos \nAño: 2022 \nDuración: 27 min. \nGuion y dirección: Ramón Lluís Bande \nFotografía: Juan A. García \nGénero: Documental – Mediometraje \nContracampos es el intento de (re)construir un paisaje. Un área recreativa y un campo de tiro\, a la orilla del mar Cantábrico\, que entre 1937 y 1943 albergaron un campo de concentración del franquismo por el que pasaron miles de republicanos -milicianos primero\, guerrilleros y sus familiares más tarde-. Compartiendo con el espectador una observación pausada\, la película pretende resignificar ese espacio\, devolverle su significado político. Pero no se trata de mostrar -de filmar- lo invisible\, sino de hacer ver en lo que hoy existe aquello que falta. Lo que estuvo y ya no está\, ni siquiera en el recuerdo de la gente. \n \n  \n– – – – – – – – – – – – – – – – – – – – – – – – – – \n  \nTítulo original: Hilos \nAño: 2022 \nDuración: 83 min. \nPaís: España \nDirección: Tito Montero \nGénero: Documental \nDurante el primer verano de la pandemia\, Tito Montero llevó en la mano una cámara recién comprada. Fue la primera ocasión en la que alguien grabó a su familia. Ocho décadas antes\, el 1 de agosto de 1937\, Felipe García Moro murió en la Batalla del Cimeru. No existen imágenes suyas. La generación del primer archivo audiovisual familiar coincidió con la búsqueda de algún rastro de la vida de un abuelo que\, hasta entonces\, nunca existió. ¿Influye la condición de clase en la memoria? ¿A qué tipo de personas puede borrarse de la Historia?. \n \n  \nLa programación cinematográfica ofrecida por La Cinemateca Ambulante está coordinada por el Festival Internacional de Cine de Gijón/Xixón (Divertia Gijón S.A.).
URL:https://www.mieres.es/evento/laboral-cinemateca-ambulante-mieres-proyeccion-de-los-documentales-contracampos-e-hilos/
LOCATION:Casa de Cultura Teodoro Cuesta\, Calle Manuel Llaneza\, 8\, Mieres\, Asturias\, 33600\, España
CATEGORIES:Cine
ATTACH;FMTTYPE=image/jpeg:https://www.mieres.es/wp-content/uploads/2023/01/contracampos-hilos-mieres.jpeg
GEO:43.2502294;-5.7729571
X-APPLE-STRUCTURED-LOCATION;VALUE=URI;X-ADDRESS=Casa de Cultura Teodoro Cuesta Calle Manuel Llaneza 8 Mieres Asturias 33600 España;X-APPLE-RADIUS=500;X-TITLE=Calle Manuel Llaneza\, 8:geo:-5.7729571,43.2502294
END:VEVENT
END:VCALENDAR