BEGIN:VCALENDAR
VERSION:2.0
PRODID:-//Ayuntamiento de Mieres - ECPv5.16.1.1//NONSGML v1.0//EN
CALSCALE:GREGORIAN
METHOD:PUBLISH
X-WR-CALNAME:Ayuntamiento de Mieres
X-ORIGINAL-URL:https://www.mieres.es
X-WR-CALDESC:Eventos para Ayuntamiento de Mieres
BEGIN:VTIMEZONE
TZID:Europe/Madrid
BEGIN:DAYLIGHT
TZOFFSETFROM:+0100
TZOFFSETTO:+0200
TZNAME:CEST
DTSTART:20250330T010000
END:DAYLIGHT
BEGIN:STANDARD
TZOFFSETFROM:+0200
TZOFFSETTO:+0100
TZNAME:CET
DTSTART:20251026T010000
END:STANDARD
END:VTIMEZONE
BEGIN:VEVENT
DTSTART;TZID=Europe/Madrid:20251028T180000
DTEND;TZID=Europe/Madrid:20251028T180000
DTSTAMP:20260421T022919
CREATED:20251008T093833Z
LAST-MODIFIED:20251008T093833Z
UID:76019-1761674400-1761674400@www.mieres.es
SUMMARY:Laboral Cinemateca Ambulante Mieres. Sesión infantil: "El tesoro de Barracuda"
DESCRIPTION:Laboral Cinemateca Ambulante \n\nProyección de la película: \nEl tesoro de Barracuda\nde Adrià García\nAuditoriu Teodoro Cuesta\nEntrada libre hasta completar aforo \n\n  \nEspaña | 2025 | 87 min. | Español | TP (especialmente recomendada para la infancia y para el fomento de la igualdad de género) \nDirección: Adrià García \nGuion: Amèlia Mora\, sobre una novela de Llanos Campos \nInformación adicional: Festival de San Sebastián 2025. Esta proyección es apta para todos los públicos. \n  \nSinopsis \nMientras intenta encontrar a sus padres\, Chispas acaba por accidente en el barco pirata del Capitán Barracuda\, tripulado por temibles marineros armados hasta los dientes y con un grave problema: no saben leer. Solo ella puede ayudarles a encontrar el tesoro de Phineas Crane\, el más valioso y codiciado por todos los piratas del Caribe. Así comienza una aventura que cambiará sus vidas para siempre \n  \nLa programación cinematográfica ofrecida por La Cinemateca Ambulante está coordinada por el Festival Internacional de Cine de Gijón/Xixón (Divertia Gijón S.A.).
URL:https://www.mieres.es/evento/laboral-cinemateca-ambulante-mieres-sesion-infantil-el-tesoro-de-barracuda/
LOCATION:Casa de Cultura Teodoro Cuesta\, Calle Manuel Llaneza\, 8\, Mieres\, Asturias\, 33600\, España
CATEGORIES:Cine
ATTACH;FMTTYPE=image/jpeg:https://www.mieres.es/wp-content/uploads/2025/10/El-tesoro-de-Barracuda.jpg
GEO:43.2502294;-5.7729571
X-APPLE-STRUCTURED-LOCATION;VALUE=URI;X-ADDRESS=Casa de Cultura Teodoro Cuesta Calle Manuel Llaneza 8 Mieres Asturias 33600 España;X-APPLE-RADIUS=500;X-TITLE=Calle Manuel Llaneza\, 8:geo:-5.7729571,43.2502294
END:VEVENT
END:VCALENDAR