BEGIN:VCALENDAR
VERSION:2.0
PRODID:-//Ayuntamiento de Mieres - ECPv5.16.1.1//NONSGML v1.0//EN
CALSCALE:GREGORIAN
METHOD:PUBLISH
X-WR-CALNAME:Ayuntamiento de Mieres
X-ORIGINAL-URL:https://www.mieres.es
X-WR-CALDESC:Eventos para Ayuntamiento de Mieres
BEGIN:VTIMEZONE
TZID:Europe/Madrid
BEGIN:DAYLIGHT
TZOFFSETFROM:+0100
TZOFFSETTO:+0200
TZNAME:CEST
DTSTART:20260329T010000
END:DAYLIGHT
BEGIN:STANDARD
TZOFFSETFROM:+0200
TZOFFSETTO:+0100
TZNAME:CET
DTSTART:20261025T010000
END:STANDARD
END:VTIMEZONE
BEGIN:VEVENT
DTSTART;TZID=Europe/Madrid:20260204T200000
DTEND;TZID=Europe/Madrid:20260204T200000
DTSTAMP:20260420T230246
CREATED:20260116T130614Z
LAST-MODIFIED:20260116T131349Z
UID:77309-1770235200-1770235200@www.mieres.es
SUMMARY:"Las Figurantas"\, por Grupo de Teatro La Algarabía. A favor de la AECC
DESCRIPTION:Teatro solidario a favor de la AECC Mieres \nLas Figurantas\npor Grupo de Teatro La Algarabía\n \n  \nMiércoles 4 de febrero de 2026\, 20:00h \nAuditoriu Teodoro Cuesta \nEntrada 5€. Se podrán adquirir desde una hora antes al comienzo de la representación en la Casa de Cultura.\nLa recaudación se destinará a los fines de la Asociación Española Contra el Cáncer en Mieres. \n\n  \nRepresentación de la célebre obra Los Figurantes\, de José Sanchis Sinisterra\, adaptada y dirigida por la actriz avilesina Aída Valladares\, que en esta versión le da un giro especial\, para que sea interpretada solo por mujeres.\nY se presenta con un nuevo nombre: Las Figurantas.\nCorrerá a cargo del grupo La Algarabía\, del taller de teatro de la Asociación Española Contra el Cáncer en Avilés\, integrado por mujeres 11 pacientes de cáncer y familiares. \nEs el segundo año de sesiones y ensayos y la segunda obra que llevan a los teatros\, y en este tiempo se ha demostrado que\, además del componente de ocio\, la participación en el grupo de teatro tiene también beneficios para la salud ya que ha mejorado el ánimo de las y los participantes y ha contribuido a la creación de un sentimiento de comunidad. \n¿Quiénes son las figurantas? \nSon esas personas que están ahí\, en el fondo del escenario\, que no hablan\, no deciden\, no brillan. Solo rellenan. \nEn esta historia\, esas figuras de fondo empiezan a preguntarse:\n¿Por qué?\n¿Por qué siempre somos extras?\n¿Por qué no tenemos voz\, ni historia\, ni protagonismo? \n¿Quién decide eso? \n¿Cuántas veces\, en la historia\, en el teatro\, en la vida\, las mujeres han ocupado ese lugar secundario\, de relleno\, de silencio? \n⸻ \nEsta puesta nos invita a mirar eso.\nNo con un dedo acusador\, sino con humor\, con ironía. \nUna creación colectiva que\, desde el escenario\, se anima a cuestionar lo que muchas veces se da por sentado. \n\n 
URL:https://www.mieres.es/evento/las-figurantas-por-grupo-de-teatro-la-algarabia-a-favor-de-la-aecc/
LOCATION:Casa de Cultura Teodoro Cuesta\, Calle Manuel Llaneza\, 8\, Mieres\, Asturias\, 33600\, España
CATEGORIES:Teatro
ATTACH;FMTTYPE=image/jpeg:https://www.mieres.es/wp-content/uploads/2026/01/Cartel-Teatro-la-algarabia-_Mieres.jpg
GEO:43.2502294;-5.7729571
X-APPLE-STRUCTURED-LOCATION;VALUE=URI;X-ADDRESS=Casa de Cultura Teodoro Cuesta Calle Manuel Llaneza 8 Mieres Asturias 33600 España;X-APPLE-RADIUS=500;X-TITLE=Calle Manuel Llaneza\, 8:geo:-5.7729571,43.2502294
END:VEVENT
END:VCALENDAR