BEGIN:VCALENDAR
VERSION:2.0
PRODID:-//Ayuntamiento de Mieres - ECPv5.16.1.1//NONSGML v1.0//EN
CALSCALE:GREGORIAN
METHOD:PUBLISH
X-WR-CALNAME:Ayuntamiento de Mieres
X-ORIGINAL-URL:https://www.mieres.es
X-WR-CALDESC:Eventos para Ayuntamiento de Mieres
BEGIN:VTIMEZONE
TZID:Europe/Madrid
BEGIN:DAYLIGHT
TZOFFSETFROM:+0100
TZOFFSETTO:+0200
TZNAME:CEST
DTSTART:20250330T010000
END:DAYLIGHT
BEGIN:STANDARD
TZOFFSETFROM:+0200
TZOFFSETTO:+0100
TZNAME:CET
DTSTART:20251026T010000
END:STANDARD
END:VTIMEZONE
BEGIN:VEVENT
DTSTART;TZID=Europe/Madrid:20250524T123000
DTEND;TZID=Europe/Madrid:20250524T123000
DTSTAMP:20260421T002558
CREATED:20250521T123453Z
LAST-MODIFIED:20250521T123453Z
UID:74225-1748089800-1748089800@www.mieres.es
SUMMARY:Manifestación 'Paremos el xenocidiu en Palestina. Fin al comerciu d'armes y a rellaciones con Israel'
DESCRIPTION:Manifestación\n‘Paremos el xenocidiu en Palestina. Fin al comerciu d’armes y a rellaciones con Israel’\n  \nSábado\, 24 de mayo de 2025. 12:30h.\nOrganizada por la Plataforma Solidaria “Asturias con Palestina” \nSalida desde el Campus Universitario\, recorrido por las principales calles de Mieres y finalización en el Parque Xovellanos.
URL:https://www.mieres.es/evento/manifestacion-paremos-el-xenocidiu-en-palestina-fin-al-comerciu-darmes-y-a-rellaciones-con-israel/
LOCATION:Casco urbano\, Mieres del Camín\, Asturias\, 33600\, España
CATEGORIES:Actividades
ATTACH;FMTTYPE=image/jpeg:https://www.mieres.es/wp-content/uploads/2025/05/manifestacion-24-mayu.jpeg
GEO:43.2491037;-5.7747551
END:VEVENT
END:VCALENDAR