BEGIN:VCALENDAR
VERSION:2.0
PRODID:-//Ayuntamiento de Mieres - ECPv5.16.1.1//NONSGML v1.0//EN
CALSCALE:GREGORIAN
METHOD:PUBLISH
X-WR-CALNAME:Ayuntamiento de Mieres
X-ORIGINAL-URL:https://www.mieres.es
X-WR-CALDESC:Eventos para Ayuntamiento de Mieres
BEGIN:VTIMEZONE
TZID:Europe/Madrid
BEGIN:DAYLIGHT
TZOFFSETFROM:+0100
TZOFFSETTO:+0200
TZNAME:CEST
DTSTART:20250330T010000
END:DAYLIGHT
BEGIN:STANDARD
TZOFFSETFROM:+0200
TZOFFSETTO:+0100
TZNAME:CET
DTSTART:20251026T010000
END:STANDARD
END:VTIMEZONE
BEGIN:VEVENT
DTSTART;TZID=Europe/Madrid:20250522T193000
DTEND;TZID=Europe/Madrid:20250522T193000
DTSTAMP:20260421T184721
CREATED:20250516T071025Z
LAST-MODIFIED:20250516T071025Z
UID:74174-1747942200-1747942200@www.mieres.es
SUMMARY:Mesa redonda: "El ferrocarril en Asturias. Situación y retos futuros"
DESCRIPTION:Mesa redonda: \n“El ferrocarril en Asturias. Situación y retos futuros”\n\nCon la participación de: \n\nMariano Santiso. Exdirectivo de RENFE\nIgnacio Pérez Garrido. Secretario Gral. de CC.OO. Ferroviario Asturias\nFrancisco Barros Palacios. Secretario Gral. de UGT Ferroviario Asturias\nGuillermo Bas. Historiador. Asociación Santa Bárbara\n\nModerada por: Sofía Gutiérrez\, periodista. \n  \nJueves\, 22 de mayo de 2025\, 19:30h. \nSalón de actos de la Casa de Cultura Teodoro Cuesta \nEntrada libre hasta completar aforo \n\n 
URL:https://www.mieres.es/evento/mesa-redonda-el-ferrocarril-en-asturias-situacion-y-retos-futuros/
LOCATION:Casa de Cultura Teodoro Cuesta\, Calle Manuel Llaneza\, 8\, Mieres\, Asturias\, 33600\, España
CATEGORIES:Charlas-coloquio
ATTACH;FMTTYPE=image/jpeg:https://www.mieres.es/wp-content/uploads/2025/05/Cartel-charla-ferrocarril-asturias-mayo-2025.jpg
GEO:43.2502294;-5.7729571
X-APPLE-STRUCTURED-LOCATION;VALUE=URI;X-ADDRESS=Casa de Cultura Teodoro Cuesta Calle Manuel Llaneza 8 Mieres Asturias 33600 España;X-APPLE-RADIUS=500;X-TITLE=Calle Manuel Llaneza\, 8:geo:-5.7729571,43.2502294
END:VEVENT
END:VCALENDAR