BEGIN:VCALENDAR
VERSION:2.0
PRODID:-//Ayuntamiento de Mieres - ECPv5.16.1.1//NONSGML v1.0//EN
CALSCALE:GREGORIAN
METHOD:PUBLISH
X-WR-CALNAME:Ayuntamiento de Mieres
X-ORIGINAL-URL:https://www.mieres.es
X-WR-CALDESC:Eventos para Ayuntamiento de Mieres
BEGIN:VTIMEZONE
TZID:Europe/Madrid
BEGIN:DAYLIGHT
TZOFFSETFROM:+0100
TZOFFSETTO:+0200
TZNAME:CEST
DTSTART:20260329T010000
END:DAYLIGHT
BEGIN:STANDARD
TZOFFSETFROM:+0200
TZOFFSETTO:+0100
TZNAME:CET
DTSTART:20261025T010000
END:STANDARD
END:VTIMEZONE
BEGIN:VEVENT
DTSTART;TZID=Europe/Madrid:20260124T200000
DTEND;TZID=Europe/Madrid:20260124T200000
DTSTAMP:20260421T000852
CREATED:20260113T125711Z
LAST-MODIFIED:20260113T125711Z
UID:77216-1769284800-1769284800@www.mieres.es
SUMMARY:Mónica´s Dream Quartet\, en concierto
DESCRIPTION:Concierto: \nMónica´s Dream Quartet\n\nMúsicos:\nCésar Latorre: piano\nArturo Valero: contrabajo\nIan Morris: batería\nMónica Acevedo: violín\, voz y composiciones\nArtista invitado:\nDiego Parada: guitarra \n  \nSábado\, 24 de enero de 2026\, 20:00h\nAuditoriu Teodoro Cuesta \nEntrada libre hasta completar aforo\n \n\nMónica’ s Dream Quartet es el sueño de un mundo sosegado y multicolor\, un viaje insólito hacia paisajes acústicos múltiples. Las composiciones de Mónica mezclan las sonoridades célticas tomadas de Escocia\, la energía y el “Groove” de Nueva Orleans y la ligereza de los cantos de los pájaros de Colombia. Todo eso en cuanto a la inspiración. Pero el arraigo está en Francia\, en los árboles del bosque de Trois pignons\, en la región de Seine et Marne. \nMónica Acevedo es una apasionada artista española que ha hecho del arraigo su mantra. Notas “de madera” y voces con inflexiones guturales de su lengua materna se entremezclan en sus composiciones orgánicas y sensuales. Las letras son en español puesto que es su lengua materna la que “le habla”\, pero la música es universal\, transversal. \nEscuchar Mónica’ s Dream Quartet supone vivir una experiencia musical y sensorial\, implica vibrar con las cuerdas de un violín salvaje a la vez que manejado con maestría\, escuchar la respiración de una voz volcánica y dulce al mismo tiempo. La formación lleva al espectador hacia una poderosa corriente canalizada por la virtuosidad de sus músicos. La sensación es conmovedora\, magnética e irresistible. \nEntre el Jazz fusión y la World music\, con influencias de la música clásica\, Mónica’ s Dream Quartet se adentra en el camino de un Jazz orgánico\, poético y accesible. En este concierto presentarán su nuevo single “Lugar Madiéu”\, que pasará a estar disponible desde ese momento en las principales plataformas. \n\n 
URL:https://www.mieres.es/evento/monicas-dream-quartet-en-concierto/
LOCATION:Casa de Cultura Teodoro Cuesta\, Calle Manuel Llaneza\, 8\, Mieres\, Asturias\, 33600\, España
CATEGORIES:Música
ATTACH;FMTTYPE=image/jpeg:https://www.mieres.es/wp-content/uploads/2026/01/monicas-dream-quartet-en-mieres.jpg
GEO:43.2502294;-5.7729571
X-APPLE-STRUCTURED-LOCATION;VALUE=URI;X-ADDRESS=Casa de Cultura Teodoro Cuesta Calle Manuel Llaneza 8 Mieres Asturias 33600 España;X-APPLE-RADIUS=500;X-TITLE=Calle Manuel Llaneza\, 8:geo:-5.7729571,43.2502294
END:VEVENT
END:VCALENDAR