BEGIN:VCALENDAR
VERSION:2.0
PRODID:-//Ayuntamiento de Mieres - ECPv5.16.1.1//NONSGML v1.0//EN
CALSCALE:GREGORIAN
METHOD:PUBLISH
X-WR-CALNAME:Ayuntamiento de Mieres
X-ORIGINAL-URL:https://www.mieres.es
X-WR-CALDESC:Eventos para Ayuntamiento de Mieres
BEGIN:VTIMEZONE
TZID:Europe/Madrid
BEGIN:DAYLIGHT
TZOFFSETFROM:+0100
TZOFFSETTO:+0200
TZNAME:CEST
DTSTART:20240331T010000
END:DAYLIGHT
BEGIN:STANDARD
TZOFFSETFROM:+0200
TZOFFSETTO:+0100
TZNAME:CET
DTSTART:20241027T010000
END:STANDARD
END:VTIMEZONE
BEGIN:VEVENT
DTSTART;VALUE=DATE:20240307
DTEND;VALUE=DATE:20240308
DTSTAMP:20260426T031309
CREATED:20240306T091628Z
LAST-MODIFIED:20240306T092644Z
UID:68054-1709769600-1709855999@www.mieres.es
SUMMARY:Movámonos Xunt@s. Vacaciones activas Semana Santa 2024 -Apertura del periodo de inscripciones-
DESCRIPTION:  \nSe acercan las vacaciones escolares de Semana Santa y con ellas llega una nueva edición de los campamentos urbanos Movámonos Xunt@s\, organizados por la Concejalía de Infancia y Juventud de nuestro Ayuntamiento. En esta ocasión se desarrollarán durante los días 25\, 26 y 27 de marzo y 1 de abril\, en el Colegio Liceo Mierense-Aniceto Sela\, de 10 a 14 horas\, dirigidos a niños/as de 3 a 12 años. En ellos realizarán todo tipo de juegos\, talleres y actividades de ocio y educativas. \nCon esta iniciativa se pretende que los y las participantes disfruten de este tiempo de ocio en horario de mañana al mismo tiempo que se facilita la organización y la conciliación personal y laboral de las familias durante estas vacaciones escolares. \n  \nEl campamento urbano Movámonos Xunt@s Semana Santa 2024 es una actividad gratuita pero es necesaria la inscripción previa ya que el número de plazas es limitado. \nLas inscripciones se pueden realizar a partir del 7 de marzo desde la web: https://www.vitaeventsformacion.es/mieres \n  \nDurante estos campamentos urbanos/vacaciones activas\, las y los participantes disfrutan y aprenden con actividades lúdicas y formativas acordes a su desarrollo intelectual y motriz que permiten\, al mismo tiempo\, profundizar en valores y actitudes de respeto\, cooperación\, igualdad y tolerancia a través de juegos y talleres compartidos. \nSi necesitan más información\, pueden llamar al 985308317 (lunes a viernes de 9:00h a 14:00h / lunes a jueves de 16:00 a 18:00h) o escribirnos un email a preinscripcion@vitaevents.es \n  \n\n 
URL:https://www.mieres.es/evento/movamonos-xunts-vacaciones-activas-semana-santa-2024/
LOCATION:Patio colegio Liceo/Aniceto Sela\, Colegio Público Liceo Mierense\, Mieres\, Asturias\, 33600 
CATEGORIES:Juventud e Infancia
ATTACH;FMTTYPE=image/png:https://www.mieres.es/wp-content/uploads/2024/03/Cartel-Mieres-CAMPAMENTO-DE-S.SANTA_.png
ORGANIZER;CN="Concejal%C3%ADa%20de%20Infancia%20y%20Juventud":MAILTO:oij@ayto-mieres.es
GEO:43.249719;-5.7785282
X-APPLE-STRUCTURED-LOCATION;VALUE=URI;X-ADDRESS=Patio colegio Liceo/Aniceto Sela Colegio Público Liceo Mierense Mieres Asturias 33600;X-APPLE-RADIUS=500;X-TITLE=Colegio Público Liceo Mierense:geo:-5.7785282,43.249719
END:VEVENT
END:VCALENDAR