BEGIN:VCALENDAR
VERSION:2.0
PRODID:-//Ayuntamiento de Mieres - ECPv5.16.1.1//NONSGML v1.0//EN
CALSCALE:GREGORIAN
METHOD:PUBLISH
X-WR-CALNAME:Ayuntamiento de Mieres
X-ORIGINAL-URL:https://www.mieres.es
X-WR-CALDESC:Eventos para Ayuntamiento de Mieres
BEGIN:VTIMEZONE
TZID:Europe/Madrid
BEGIN:DAYLIGHT
TZOFFSETFROM:+0100
TZOFFSETTO:+0200
TZNAME:CEST
DTSTART:20250330T010000
END:DAYLIGHT
BEGIN:STANDARD
TZOFFSETFROM:+0200
TZOFFSETTO:+0100
TZNAME:CET
DTSTART:20251026T010000
END:STANDARD
END:VTIMEZONE
BEGIN:VEVENT
DTSTART;TZID=Europe/Madrid:20251226T200000
DTEND;TZID=Europe/Madrid:20251226T200000
DTSTAMP:20260421T010748
CREATED:20251128T123228Z
LAST-MODIFIED:20251128T123228Z
UID:76742-1766779200-1766779200@www.mieres.es
SUMMARY:Muñeco Vudú\, en concierto: "Música Popular Independiente"
DESCRIPTION:Concierto \nMUÑECO VUDÚ\nMúsica Popular Independiente\n\n  \nViernes 26 de diciembre\, 20:00 h\nAuditoriu Teodoro Cuesta \nEntrada libre hasta completar aforo \n\n  \n‘Música Popular Independiente’ no es más que una sana declaración de intenciones\, en un entorno cinematográfico y con un guión cargado de honestidad y entrañable crudeza. \nEn forma de diario de grabación\, la Fantástica Banda Asturiana bucea por quinta vez en un estudio de grabación para formular una nueva propuesta: un repaso a su discografía en diez pequeños capítulos\, una invitación al futuro en forma de nueva canción y la honestidad del que se atreve a hacerlo en directo. \n  \n\n 
URL:https://www.mieres.es/evento/muneco-vudu-en-concierto-musica-popular-independiente/
LOCATION:Casa de Cultura Teodoro Cuesta\, Calle Manuel Llaneza\, 8\, Mieres\, Asturias\, 33600\, España
CATEGORIES:Música
ATTACH;FMTTYPE=image/jpeg:https://www.mieres.es/wp-content/uploads/2025/11/muneco-vudu-2025.jpg
GEO:43.2502294;-5.7729571
X-APPLE-STRUCTURED-LOCATION;VALUE=URI;X-ADDRESS=Casa de Cultura Teodoro Cuesta Calle Manuel Llaneza 8 Mieres Asturias 33600 España;X-APPLE-RADIUS=500;X-TITLE=Calle Manuel Llaneza\, 8:geo:-5.7729571,43.2502294
END:VEVENT
END:VCALENDAR