BEGIN:VCALENDAR
VERSION:2.0
PRODID:-//Ayuntamiento de Mieres - ECPv5.16.1.1//NONSGML v1.0//EN
CALSCALE:GREGORIAN
METHOD:PUBLISH
X-WR-CALNAME:Ayuntamiento de Mieres
X-ORIGINAL-URL:https://www.mieres.es
X-WR-CALDESC:Eventos para Ayuntamiento de Mieres
BEGIN:VTIMEZONE
TZID:Europe/Madrid
BEGIN:DAYLIGHT
TZOFFSETFROM:+0100
TZOFFSETTO:+0200
TZNAME:CEST
DTSTART:20240331T010000
END:DAYLIGHT
BEGIN:STANDARD
TZOFFSETFROM:+0200
TZOFFSETTO:+0100
TZNAME:CET
DTSTART:20241027T010000
END:STANDARD
END:VTIMEZONE
BEGIN:VEVENT
DTSTART;VALUE=DATE:20240615
DTEND;VALUE=DATE:20240616
DTSTAMP:20260422T015141
CREATED:20240612T124348Z
LAST-MODIFIED:20240612T124348Z
UID:69555-1718409600-1718495999@www.mieres.es
SUMMARY:Peña Bolística Batán-Bolos sin barreras. Día del Socio 2024
DESCRIPTION:Peña Bolística Batán-Bolos sin barreras\nDía del Socio 2024\nEn la Bolera Municipal de Vega de Arriba \n\nAPERTURA DE LAS INSTALACIONES A LAS 10\,00 H\nENTREGA DE BOLLU DE 10\,00 A 14\,00 Y DE 16\,00 A 18\,00 H\nPINCHEO PARA TODOS/AS LOS PRESENTES A LAS 12\,00 H\n\nCANTANTES DE TONADA\nA partir de las 12 h actuarán: \n\n\n\nLORENA CORRIPIO\nFLORENTINO PARUGUES\nLILIANA CASTAÑÓN\nPAULA PRIETO\nJOSE ANTONIO Cantu la vara\nALVARO FDEZ. CONDE\nGAITERO: JORGE ARECES\n\n\n\n\nFINAL DE BOLOS TORNEO DISCAPACITADOS A LAS 16\,30 H\nPINCHEO PARA TODOS/AS LOS PRESENTES A LAS 20\,00 H\nARIZONA Y SUS TECLADOS amenizarán con música para bailar a partir de las 19\,00h\nPara las previsiones\, solicitamos tengan la cuota abonada antes del día 5 de junio\npueden pasar a abonarla por la Bolera de martes a sábado\, de 10\,00 a 20\,00h\n\n 
URL:https://www.mieres.es/evento/pena-bolistica-batan-bolos-sin-barreras-dia-del-socio-2024/
LOCATION:Bolera Municipal de Mieres\, Calle Sócrates Quintana\, 33600 Mieres\, Asturias\, Spain\, Mieres\, Principado De Asturias\, 33600
CATEGORIES:Actividades,Deportes,Taller
ATTACH;FMTTYPE=image/jpeg:https://www.mieres.es/wp-content/uploads/2024/06/CARTEL-DIA-DEL-SOCIO-2024-pena-batan_Pagina_1.jpg
GEO:43.239503;-5.7783653
X-APPLE-STRUCTURED-LOCATION;VALUE=URI;X-ADDRESS=Bolera Municipal de Mieres Calle Sócrates Quintana 33600 Mieres Asturias Spain Mieres Principado De Asturias 33600;X-APPLE-RADIUS=500;X-TITLE=Calle Sócrates Quintana\, 33600 Mieres\, Asturias\, Spain\, Mieres\, Principado De Asturias\, 33600:geo:-5.7783653,43.239503
END:VEVENT
END:VCALENDAR