BEGIN:VCALENDAR
VERSION:2.0
PRODID:-//Ayuntamiento de Mieres - ECPv5.16.1.1//NONSGML v1.0//EN
CALSCALE:GREGORIAN
METHOD:PUBLISH
X-WR-CALNAME:Ayuntamiento de Mieres
X-ORIGINAL-URL:https://www.mieres.es
X-WR-CALDESC:Eventos para Ayuntamiento de Mieres
BEGIN:VTIMEZONE
TZID:Europe/Madrid
BEGIN:DAYLIGHT
TZOFFSETFROM:+0100
TZOFFSETTO:+0200
TZNAME:CEST
DTSTART:20230326T010000
END:DAYLIGHT
BEGIN:STANDARD
TZOFFSETFROM:+0200
TZOFFSETTO:+0100
TZNAME:CET
DTSTART:20231029T010000
END:STANDARD
END:VTIMEZONE
BEGIN:VEVENT
DTSTART;TZID=Europe/Madrid:20230920T190000
DTEND;TZID=Europe/Madrid:20230920T190000
DTSTAMP:20260422T022409
CREATED:20230915T064025Z
LAST-MODIFIED:20230915T064158Z
UID:64466-1695236400-1695236400@www.mieres.es
SUMMARY:Presentación del libro: "Jesús Ibáñez. Vida y acción de un revolucionario heterodoxo"\, de Ernesto Burgos
DESCRIPTION:Presentación del libro: \n\nJesús Ibáñez. Vida y acción de un revolucionario heterodoxo\nde Ernesto Burgos\n  \n\nMiércoles\, 20 de septiembre\, 19:00h. \n\nSalón de actos de la Casa de Cultura Teodoro Cuesta\nEntrada gratuita hasta completar aforo. \n\n \n  \nJesús Ibáñez era una fuente inagotable de sorpresas y seguramente cuando hayamos puesto el punto final a este libro seguirán apareciendo noticias sobre su vida. \nSu actividad fue tan intensa que resulta difícil intentar condensarla en un resumen para ofrecer una visión global del personaje\, y eso que existen muchas reseñas\, algunas escritas en la prensa de época y la mayoría elaboradas a la manera de fichas que siempre repiten los mismo datos y están publicadas en compilaciones de militantes de los años 30 o de escritores españoles en el exilio; porque estas son las dos facetas por las que Ibáñez es recordado en la historia. \n  \nERNESTO BURGOS FERNÁNDEZ (MIERES\, 1957)\nLicenciado en Geografía e Historia y Diploma de Estudios Avanzados en Arqueología Histórica. Ha desarrollado su vida profesional como profesor de Educación Secundaria. Desde la década de 1970 se dedica a recuperar la historia de las Cuencas Mineras de Asturias publicando innumerables artículos en libros\, periódicos y revistas e impartiendo conferencias sobre los hechos y los personajes de este territorio. Mantiene desde 2005 la página semanal “Historias Heterodoxas” en el diario La Nueva España y lleva años divulgando las biografías de los revolucionarios mierenses Manuel Grossi “Manolé” y Jesús Ibáñez. \n  \n  \n\n\n\n\n 
URL:https://www.mieres.es/evento/presentacion-del-libro-jesus-ibanez-vida-y-accion-de-un-revolucionario-heterodoxo-de-ernesto-burgos/
LOCATION:Casa de Cultura Teodoro Cuesta\, Calle Manuel Llaneza\, 8\, Mieres\, Asturias\, 33600\, España
CATEGORIES:Letras
ATTACH;FMTTYPE=image/jpeg:https://www.mieres.es/wp-content/uploads/2023/09/cartel-ERNESTO-BURGOS-RRSS.jpg
GEO:43.2502294;-5.7729571
X-APPLE-STRUCTURED-LOCATION;VALUE=URI;X-ADDRESS=Casa de Cultura Teodoro Cuesta Calle Manuel Llaneza 8 Mieres Asturias 33600 España;X-APPLE-RADIUS=500;X-TITLE=Calle Manuel Llaneza\, 8:geo:-5.7729571,43.2502294
END:VEVENT
END:VCALENDAR